BEGIN:VCALENDAR
VERSION:2.0
PRODID:-//ChamberMaster//Event Calendar 2.0//EN
METHOD:PUBLISH
X-PUBLISHED-TTL:P3D
REFRESH-INTERVAL:P3D
CALSCALE:GREGORIAN
BEGIN:VEVENT
DTSTART:20250508T073000Z
DTEND:20250508T090000Z
X-MICROSOFT-CDO-ALLDAYEVENT:FALSE
SUMMARY:Use AI Effectively
DESCRIPTION:Are you using AI but not sure if you are 'using it correctly'? Are you afraid to start due to privacy and security concerns? Maybe you don't know how it could help you in your industry but are ready to explore solutions. \n\n\n\nJoin us on 8th May and hear from three people working across different industries on how they use AI to: \n\n\n\n   Produce documents\n\n   Write code\n\n   Transcribing Meetings\n\n   Carry Out Market Research\n\n   Use AI to simplify everyday Marketing tasks\n\n   Create Videos\n\nSharon O'Sullivan\, PGIM\, Jose Manuel Perez\, Ernact and Mariam Murphy\, Greenes Shoes share their expertise on how they use AI. Come along and get practical AI insights you can start using right away!
X-ALT-DESC;FMTTYPE=text/html:<br />\nAre you using AI but not sure if you are &#39\;using it correctly&#39\;? Are you afraid to start due to privacy and security concerns? Maybe you don&#39\;t know how it could help you in your industry but are ready to explore solutions.&nbsp\;<br />\n<br />\nJoin us on 8th May and hear from three people working across different industries on how they use AI to:&nbsp\;<br />\n<br />\n&#10004\;&#65039\; Produce documents<br />\n&#10004\;&#65039\; Write code<br />\n&#10004\;&#65039\; Transcribing Meetings<br />\n&#10004\;&#65039\; Carry Out Market Research<br />\n&#10004\;&#65039\; Use AI to simplify everyday Marketing tasks<br />\n&#10004\;&#65039\; Create Videos\n<div data-block="true" data-editor="17doa" data-offset-key="ae7f0-0-0" style="font-family: -apple-system\, BlinkMacSystemFont\, &quot\;Segoe UI&quot\;\, Roboto\, Helvetica\, Arial\, sans-serif\, &quot\;Apple Color Emoji&quot\;\, &quot\;Segoe UI Emoji&quot\;\, &quot\;Segoe UI Symbol&quot\;\; color: rgb(28\, 43\, 51)\; font-size: 14px\; white-space-collapse: preserve\; animation-name: none !important\; transition-property: none !important\;">\n<div class="_1mf _1mj" data-offset-key="ae7f0-0-0" style="position: relative\; direction: ltr\; font-family: inherit\; animation-name: none !important\; transition-property: none !important\;"><span data-offset-key="ae7f0-0-0" style="animation-name: none !important\; transition-property: none !important\; font-family: inherit\;">Sharon O&#39\;Sullivan\, PGIM\, Jose Manuel Perez\, Ernact and Mariam Murphy\, Greenes Shoes share their expertise on how they use AI. </span><span data-offset-key="33psi-0-0" style="animation-name: none !important\; transition-property: none !important\; font-family: inherit\;">Come along and get practical AI insights you can start using right away!</span></div>\n</div>\n
LOCATION:PGIM\, Letterkenny\, F92 FP83
UID:e.3653.60
SEQUENCE:3
DTSTAMP:20260420T002538Z
URL:https://business.letterkennychamber.com/events/details/use-ai-effectively-60
END:VEVENT

END:VCALENDAR
