BEGIN:VCALENDAR
VERSION:2.0
PRODID:-//ChamberMaster//Event Calendar 2.0//EN
METHOD:PUBLISH
X-PUBLISHED-TTL:P3D
REFRESH-INTERVAL:P3D
CALSCALE:GREGORIAN
BEGIN:VEVENT
DTSTART:20230727T080000Z
DTEND:20230727T100000Z
X-MICROSOFT-CDO-ALLDAYEVENT:FALSE
SUMMARY:Think Like a Video Marketer
DESCRIPTION:Think Like a Video Marketer with DipDab Media\n\n\n\nSponsored by CoLab Northwest in association with Letterkenny Chamber \n\n\n\nFree for Chamber Members and CoLab Clients\n\n5EURO fee for non-members\, non-CoLab Clients. \n\n\n\nHow to Make the Most of Your Video Content\n\n \n\nDelivered by Letterkenny Chamber Members: Inbound Studio & DipDab Media. Kieran Moore and Chris Kelly are digital content and videography experts.\n\n\n\nKieran and Chris are experienced in creating successful marketing campaigns which increase brand awareness\, land conversions and deliver purposeful content to the right audiences. \n\n\n\nWho is this event for? Business owners\, or team members (marketing\, social media\, events) anyone who may be interested in or responsible for creating\, organising or promoting video content. \n\n \n\nIn this session you will learn about:\n\n \n\n	Briefing and scripting a video that resonates and best reflects your brand\n	Design thinking\, the purpose and structure behind meaningful video campaigns\n	The metrics that really matter for your video marketing to reach the right audiences\n	Successful case studies from Donegal brands Wild Ireland and Inishowen Development Partnership\n	Correct formats and the simple yet effective technical specifications needed to post and promote video content\n	Quality over quantity\, the best practice advice on lengths and promotional channels\n	Repurposing content to get a longer lifespan from your video footage\n	How to make the most of your video marketing by getting the best return on investment of your budget and time\n\nWhen done well\, video is a dynamic and memorable representation of your brand\, this session aims to clarify the best way to help video marketing to open doors for your organisation\, and make a lasting impression on your target market.\n\n\n\nREGISTER NOW    using registration button on this page\, or email marie@letterkennychamber.com to register your place. \n\n \n\nWhether you have already created or commissioned video for your organisation\, or\, are planning to\, this session will provide practical insight leaving you feeling confident and informed on the best steps to take to maximise your video marketing campaigns.\n\n \n\nAll welcome\, numbers are limited\, please REGISTER by Friday July 21st.
X-ALT-DESC;FMTTYPE=text/html:<strong>Think Like a Video Marketer with DipDab Media<br />\n<br />\nSponsored by CoLab Northwest in association with Letterkenny Chamber&nbsp\;</strong><br />\n<br />\nFree for Chamber Members and CoLab Clients<br />\n5EURO fee for non-members\, non-CoLab Clients.&nbsp\;<br />\n<br />\nHow to Make the Most of Your Video Content<br />\n&nbsp\;<br />\nDelivered by Letterkenny Chamber Members: Inbound Studio &amp\; DipDab Media. Kieran Moore and Chris Kelly are digital content and videography experts.<br />\n<br />\nKieran and Chris are experienced in creating successful marketing campaigns which increase brand awareness\, land conversions and deliver purposeful content to the right audiences.&nbsp\;<br />\n<br />\n<strong>Who is this event for?</strong> Business owners\, or team members (marketing\, social media\, events) anyone who may be interested in or responsible for creating\, organising or promoting video content.&nbsp\;<br />\n&nbsp\;<br />\n<strong>In this session you will learn about:<br />\n&nbsp\;</strong>\n<ul>\n	<li style="margin-left:0cm\;">Briefing and scripting a video that resonates and best reflects your brand</li>\n	<li style="margin-left:0cm\;">Design thinking\, the purpose and structure behind meaningful video campaigns</li>\n	<li style="margin-left:0cm\;">The metrics that really matter for your video marketing to reach the right audiences</li>\n	<li style="margin-left:0cm\;">Successful case studies from Donegal brands Wild Ireland and Inishowen Development Partnership</li>\n	<li style="margin-left:0cm\;">Correct formats&nbsp\;and the simple yet effective technical specifications&nbsp\;needed to post and promote video content</li>\n	<li style="margin-left:0cm\;">Quality over quantity\, the best practice advice on lengths and promotional channels</li>\n	<li style="margin-left:0cm\;">Repurposing content to get a longer lifespan from your video footage</li>\n	<li style="margin-left:0cm\;">How to make the most of your video marketing by getting the best return on investment of your budget and time</li>\n</ul>\nWhen done well\, video is a dynamic and memorable representation of your brand\, this session aims to clarify the best way to help video marketing to open doors for your organisation\, and make a lasting impression on your target market.<br />\n<br />\n<strong>REGISTER NOW &gt\;&gt\; using registration button on this page\, or email marie@letterkennychamber.com</strong>&nbsp\;to register your place.&nbsp\;<br />\n&nbsp\;<br />\nWhether you have already created or commissioned video for your organisation\, or\, are planning to\, this session will provide practical insight leaving you feeling confident and informed on the best steps to take to maximise your video marketing campaigns.<br />\n&nbsp\;<br />\nAll welcome\, numbers are limited\, please REGISTER by Friday July 21st.&nbsp\;<br />\n&nbsp\;
LOCATION:CoLab Conference Room\, ATU Donegal Campus\, Port Road Letterkenny.
UID:e.3653.20
SEQUENCE:3
DTSTAMP:20260420T191806Z
URL:https://business.letterkennychamber.com/events/details/think-like-a-video-marketer-20
END:VEVENT

END:VCALENDAR
