BEGIN:VCALENDAR
VERSION:2.0
PRODID:-//ChamberMaster//Event Calendar 2.0//EN
METHOD:PUBLISH
X-PUBLISHED-TTL:P3D
REFRESH-INTERVAL:P3D
CALSCALE:GREGORIAN
BEGIN:VEVENT
DTSTART:20250729T090000Z
DTEND:20250729T100000Z
X-MICROSOFT-CDO-ALLDAYEVENT:FALSE
SUMMARY:Take control of your Energy Costs with Solar PV - Webinar
DESCRIPTION:Take control of your energy costs & Boost Sustainability \n\n  Solar PV Webinar for Chamber Members with Free Consultation  \n\n\n\n  Energy costs today can be unpredictable and unsustainable.\n\n In an effort to inform businesses of viable long term savings\, we would like to invite you to a 45 minute webinar hosted by Clann Consulting (in association with Ortus Energy) They will present businesses with two options on how to save money and take control over your energy bills through\n\n \n\n	PPA (Power Purchase Agreement) involves buying solar electricity with no upfront cost.\n	 CapEx (Capital Expenditure) means owning the system by purchasing it outright.\n\n \n\nJoin this webinar to learn how solar PV can help your business by reducing your energy running  costs. \n\n\n	  Access a FREE energy consultation after the webinar to assess your business's suitability for solar\n	  Lower electricity bills and protect against rising energy costs (up to 50% savings on solar generated electricity)\n	  Cut carbon emissions by generating your own clean power\n	  Enhance your Environmental\, Social & Governance (ESG) credentials\n	  Hear real-world success stories from businesses that have already made the switch to solar\n	Whether you're exploring ways to reduce costs or meet sustainability goals\, this session will provide practical\, no-obligation insights to help you take the next step.\n\n \n\nWho is this for? \n\n\n	Businesses with roof space more than 1400m  - Or businesses that have multiple site locations.\n	Manufacturers\n	Food and Beverage\n	Local Authorities\n	Hospitals\n	Schools\n	Community & Sports Venues\n	Cold storage facilities\n\n \n\n \n\nAbout the Hosts:\n\nClann Consulting is a sustainability and energy advisory firm helping Irish businesses navigate the path to lower energy costs and stronger environmental performance. Clann specialises in tailored energy solutions that deliver real\, measurable impact.\n\nOrtus Energy is a leading solar PV developer operating across Ireland and the UK\, with a strong track record of delivering commercial solar systems that lower energy bills and carbon emissions   with zero capital outlay for qualifying businesses.
X-ALT-DESC;FMTTYPE=text/html:&nbsp\;&nbsp\;&nbsp\;&nbsp\;&nbsp\;&nbsp\;&nbsp\;&nbsp\;<strong>Take control of your energy costs&nbsp\;&amp\; Boost Sustainability </strong><br />\n<span style="font-family:segoe ui emoji\,sans-serif\;">&#127774\;</span> Solar PV Webinar for Chamber Members with Free Consultation&nbsp\;<span style="font-family:segoe ui emoji\,sans-serif\;">&#127774\;<br />\n<br />\n&#128200\;</span> Energy costs today can be unpredictable and unsustainable.<br />\n&nbsp\;In an effort to inform businesses of viable long term savings\, we would like to invite you to a 45 minute webinar hosted by <strong>Clann Consulting</strong>&nbsp\;(in association with&nbsp\;<strong>Ortus Energy</strong>) They will present businesses with two options on how to save money and take control over your energy bills through<br />\n&nbsp\;\n<ol>\n	<li>PPA (Power Purchase Agreement) involves buying solar electricity with no upfront cost.</li>\n	<li value="2">&nbsp\;CapEx (Capital Expenditure) means owning the system by purchasing it outright.</li>\n</ol>\n&nbsp\;<br />\n<em>Join this webinar to learn how <strong>solar PV</strong> can help your business by reducing your <strong>energy running</strong> <strong>&nbsp\;costs</strong>. </em>\n\n<ul>\n	<li><span style="font-family:segoe ui emoji\,sans-serif\;">&#128188\;</span> Access a <strong>FREE energy consultation </strong>after the webinar to assess your business&rsquo\;s suitability for solar</li>\n	<li><span style="font-family:segoe ui emoji\,sans-serif\;">&#9889\;</span> <strong>Lower electricity bills</strong> and protect against rising energy costs (up to 50% savings on solar generated electricity)</li>\n	<li><span style="font-family:segoe ui emoji\,sans-serif\;">&#127757\;</span> <strong>Cut carbon emissions</strong> by generating your own clean power</li>\n	<li><span style="font-family:segoe ui emoji\,sans-serif\;">&#128200\;</span> Enhance your <strong>Environmental\, Social &amp\; Governance (ESG)</strong> credentials</li>\n	<li><span style="font-family:segoe ui emoji\,sans-serif\;">&#9989\;</span>&nbsp\;Hear&nbsp\;<strong>real-world success stories</strong>&nbsp\;from businesses that have already made the switch to solar</li>\n	<li>Whether you&rsquo\;re exploring ways to reduce costs or meet sustainability goals\, this session will provide practical\, <strong>no-obligation</strong> insights to help you take the next step.</li>\n</ul>\n&nbsp\;<br />\n<strong><em>Who is this for? </em></strong>\n\n<ul>\n	<li>Businesses with roof space more than 1400m&sup2\; - Or businesses that have multiple site locations.</li>\n	<li>Manufacturers</li>\n	<li>Food and Beverage</li>\n	<li>Local Authorities</li>\n	<li>Hospitals</li>\n	<li>Schools</li>\n	<li>Community &amp\; Sports Venues</li>\n	<li>Cold storage facilities</li>\n</ul>\n&nbsp\;<br />\n&nbsp\;<br />\n<strong>About the Hosts:</strong><br />\n<strong>Clann Consulting</strong>&nbsp\;is a sustainability and energy advisory firm helping Irish businesses navigate the path to lower energy costs and stronger environmental performance. Clann specialises in tailored energy solutions that deliver real\, measurable impact.<br />\n<strong>Ortus Energy</strong>&nbsp\;is a leading solar PV developer operating across Ireland and the UK\, with a strong track record of delivering commercial solar systems that lower energy bills and carbon emissions &mdash\; with zero capital outlay for qualifying businesses.<br />\n&nbsp\;
LOCATION:Online Webinar via Zoom Link
UID:e.3653.64
SEQUENCE:3
DTSTAMP:20260419T231322Z
URL:https://business.letterkennychamber.com/events/details/take-control-of-your-energy-costs-with-solar-pv-webinar-64
END:VEVENT

END:VCALENDAR
