BEGIN:VCALENDAR
VERSION:2.0
PRODID:-//ChamberMaster//Event Calendar 2.0//EN
METHOD:PUBLISH
X-PUBLISHED-TTL:P3D
REFRESH-INTERVAL:P3D
CALSCALE:GREGORIAN
BEGIN:VEVENT
DTSTART:20240625T073000Z
DTEND:20240625T093000Z
X-MICROSOFT-CDO-ALLDAYEVENT:FALSE
SUMMARY:Sustainability of the Supply Chain\, Sponsored by Donegal Education and Training Board
DESCRIPTION:Kindly sponsored by Donegal Education and Training Board   this practical breakfast event is focused on sustainable supply chain practices\, with expert speakers and panellists sharing their practical insights and foresight on this important topic. \n\n\n\n  Tuesday\, June 25th\, from 8:30 AM to 10:30 AM\n\n  Donegal ETB's Letterkenny Training Centre (Ballyraine)\n\n\n\nOur expert speakers include:\n\n\n\nLiz McCarron\, Senior Supply Chain Manager at Phillips Medisize Ireland\n\nYosef Dvores\, Ecological Field Specialist at Veri Connect\n\n\n\nAdditionally\, we'll have an insightful panel of Donegal business leaders\, including Donegal Bees and Little Mamas Gelato\, who are pioneering sustainable practices.\n\n\n\nThe event will cover:\n\n	In-depth discussions on sustainability\n	Practical insights from industry experts\n	Networking opportunities with local business leaders\n	Light breakfast served upon arrival\n	Tour of Donegal ETB Training Centre\n\nWho is this event for? All welcome! Owners\, managers\, ESG professionals\, procurement and supply chain managers\, and anyone dedicated to enhancing sustainability in their organisations.\n\n\n\nRegistration is required as numbers are limited. Secure your spot now by registering on this page - or\, email marie@letterkennychamber.com to book yourself/your team member(s)\n\n\n\nSponsored by Donegal Education and Training Board Join us in paving the way for a greener future.
X-ALT-DESC;FMTTYPE=text/html:<br />\n<strong>Kindly sponsored</strong> by&nbsp\;<a href="https://www.donegaletb.ie/">Donegal Education and Training Board&nbsp\;</a>&ndash\; this practical breakfast event is focused on sustainable supply chain practices\, with expert speakers and panellists sharing their practical insights and foresight on this important topic.&nbsp\;<br />\n<br />\n&#128197\; Tuesday\, June 25th\, from 8:30 AM to 10:30 AM<br />\n&#128205\; Donegal ETB&#39\;s Letterkenny Training Centre (Ballyraine)<br />\n<br />\nOur expert speakers include:<br />\n<br />\n<strong>Liz McCarron\, Senior Supply Chain Manager at Phillips Medisize Ireland<br />\nYosef Dvores\, Ecological Field Specialist at Veri Connect</strong><br />\n<br />\nAdditionally\, we&rsquo\;ll have an insightful panel of Donegal business leaders\, including Donegal Bees and Little Mamas Gelato\, who are pioneering sustainable practices.<br />\n<br />\n<strong>The event will cover:</strong>\n<ul>\n	<li>In-depth discussions on sustainability</li>\n	<li>Practical insights from industry experts</li>\n	<li>Networking opportunities with local business leaders</li>\n	<li>Light breakfast served upon arrival</li>\n	<li>Tour of Donegal ETB Training Centre</li>\n</ul>\n<strong>Who is this event for?</strong> All welcome! Owners\, managers\, ESG professionals\, procurement and supply chain managers\, and anyone dedicated to enhancing sustainability in their organisations.<br />\n<br />\n<strong>Registration is required as numbers are limited.</strong>&nbsp\;Secure your spot now by registering on this page - or\, email marie@letterkennychamber.com to book yourself/your team member(s)<br />\n<br />\nSponsored by<a href="https://www.donegaletb.ie/">&nbsp\;Donegal Education and Training Board</a>&nbsp\;Join us in paving the way for a greener future.
LOCATION:Donegal ETB's Letterkenny Training Centre\, Ramelton Road\, Ballyraine Industrial Estate
UID:e.3653.44
SEQUENCE:3
DTSTAMP:20260420T001115Z
URL:https://business.letterkennychamber.com/events/details/sustainability-of-the-supply-chain-sponsored-by-donegal-etb-44
END:VEVENT

END:VCALENDAR
