BEGIN:VCALENDAR
VERSION:2.0
PRODID:-//ChamberMaster//Event Calendar 2.0//EN
METHOD:PUBLISH
X-PUBLISHED-TTL:P3D
REFRESH-INTERVAL:P3D
CALSCALE:GREGORIAN
BEGIN:VEVENT
DTSTART:20260130T080000Z
DTEND:20260130T103000Z
X-MICROSOFT-CDO-ALLDAYEVENT:FALSE
SUMMARY:Strategies to Thrive in 2026
DESCRIPTION:Strategies to Thrive Business Breakfast 2026\n\nStart 2026 with Clarity and Momentum\nJoin Letterkenny Chamber & Donegal ETB for a focused Business & Leadership Breakfast on Friday 30th January 2026 at Century Complex. It is designed to help you step back\, reset\, and set yourself up for success in the year ahead.\n\n\n\n The morning features a  "Strategies to Thrive" workshop with coaching psychologist Anna Marie Brosi\, who will share evidence-based tools to help you improve focus\, build resilience\, and align your goals with what matters most. Expect practical exercises\, not theory\, to help you plan with intention and lead with confidence.\n\n\n\n You'll also hear from Cieran Kelly (Kelco Communications / Vodafone-Kelco) his business journey and how continuous learning and personal development have strengthened his business.\n\n\n\n If you want to enter 2026 with clarity\, direction\, and a plan you'll actually act on\, this is the place to start.
X-ALT-DESC;FMTTYPE=text/html:<h2 data-end="176" data-start="103" style="text-align: center\;"><span style="font-size:20px"><strong><span style="color:#DAA520">Strategies to Thrive&nbsp\;Business Breakfast 2026</span></strong></span></h2>\n\n<div style="text-align: center\;"><strong>Start 2026 with Clarity and Momentum</strong></div>\nJoin <strong>Letterkenny Chamber</strong> &amp\; <strong>Donegal ETB</strong> for a focused <strong>Business &amp\; Leadership Breakfast</strong> on Friday&nbsp\;<strong>30th January 2026 </strong>at Century Complex<strong>. </strong>It is&nbsp\;designed to help you step back\, reset\, and set yourself up for success in the year ahead.<br />\n<br />\n&#9989\;The morning features a <strong>&nbsp\;&ldquo\;Strategies to Thrive&rdquo\; workshop</strong> with coaching psychologist <strong>Anna Marie Brosi</strong>\, who will share evidence-based tools to help you improve focus\, build resilience\, and align your goals with what matters most. Expect practical exercises\, not theory\, to help you plan with intention and lead with confidence.<br />\n<br />\n&#9989\;You&rsquo\;ll also hear from <strong>Cieran Kelly (Kelco Communications / Vodafone-Kelco) </strong>his business journey and&nbsp\;how continuous learning and personal development have strengthened his business.<br />\n<br />\n&#9989\;If you want to enter 2026 with clarity\, direction\, and a plan you&rsquo\;ll actually act on\, this is the place to start.
LOCATION:Century Complex\, Leckview Lane\, Pearse Rd\, Letterkenny\, Co. Donegal F92DA02
UID:e.3653.72
SEQUENCE:3
DTSTAMP:20260419T195840Z
URL:https://business.letterkennychamber.com/events/details/strategies-to-thrive-in-2026-72
END:VEVENT

END:VCALENDAR
