BEGIN:VCALENDAR
VERSION:2.0
PRODID:-//ChamberMaster//Event Calendar 2.0//EN
METHOD:PUBLISH
X-PUBLISHED-TTL:P3D
REFRESH-INTERVAL:P3D
CALSCALE:GREGORIAN
BEGIN:VEVENT
DTSTART:20240306T140000Z
DTEND:20240306T153000Z
X-MICROSOFT-CDO-ALLDAYEVENT:FALSE
SUMMARY:Pricing and Defining Your Service Based Business - Masterclass with Beth Gladstone Supported By Accountant Online
DESCRIPTION:Sponsored by Accountant Online \n\n\n\nPlease make sure you've registered for the Zoom session\, here: \n\n\n\nhttps://bit.ly/3P80PGr \n\n\n\nEvent is ideal for service based SMEs/sole traders   from web developers\, to marketing consultants\, graphic designers to copywriters\, virtual assistants to coaches. If you're unsure how to price and package your service offering\, this session is for you! \n\n \n\nJoin us for an exclusive online masterclass with industry expert Beth Gladstone\, supported by Accountant Online\, to learn how to successfully price and define your service-based business as well as expert advice on the differences between sole trader vs. limited company. \n\n \n\nUnlock the Secrets to Profitable Pricing: Beth Gladstone\, renowned for her expertise in service based business strategy\, will guide you through the intricacies of pricing your services for maximum profitability. Discover proven strategies to set the right price that reflects the value you provide - while remaining competitive in the market.\n\n \n\n	Different types of packages you can offer as a service-based businesses (retainer vs project vs ad hoc contracts)\n	Pricing by time-spent vs value-added\n	Common pitfalls when pricing services for clients\n	Setting payment terms with clients and how to get paid on time\n	Different models to build a six-figure business as a sole trader\n\nSales and Marketing expert\, Christina McGreevy\, Head of Sales at Accountant Online will demonstrate the differences between sole trader vs limited company\, and offer advice for those considering changing from a business to a company and cover what's involved in registering for VAT.\n\n\n\n\n\n Zoom meeting registration: \n\n\n\nWhen: Mar 6\, 2024 14:00 (2pm)\n\n\n\nRegister in advance for this meeting:\n\n\n\nhttps://bit.ly/3P80PGr\n\n\n\nAfter registering\, you will receive a confirmation email containing information about joining the session.
X-ALT-DESC;FMTTYPE=text/html:<strong>Sponsored by <a href="https://accountantonline.ie/">Accountant Online&nbsp\;</a><br />\n<br />\nPlease make sure you&#39\;ve registered for the Zoom session\, here:&nbsp\;</strong><br />\n<br />\n<a href="https://bit.ly/3P80PGr">https://bit.ly/3P80PGr&#8203\;</a><br />\n<br />\n<strong>Event is ideal for service based SMEs/sole traders &ndash\; from web developers\, to marketing consultants\, graphic designers to copywriters\, virtual assistants to coaches. If you&rsquo\;re unsure how to price and package your service offering\, this session is for you! </strong><br />\n&nbsp\;<br />\n<strong>Join us for an exclusive online masterclass with industry expert Beth Gladstone\, supported by Accountant Online\, to learn how to successfully price and define your service-based business as well as expert advice on the differences between sole trader vs. limited company. </strong><br />\n&nbsp\;<br />\n<strong>Unlock the Secrets to Profitable Pricing: Beth Gladstone\, renowned for her expertise in service based business strategy\, will guide you through the intricacies of pricing your services for maximum profitability. Discover proven strategies to set the right price that reflects the value you provide - while remaining competitive in the market.</strong><br />\n&nbsp\;\n<ul>\n	<li>Different types of packages you can offer as a service-based businesses (retainer vs project vs ad hoc contracts)</li>\n	<li>Pricing by time-spent vs value-added</li>\n	<li>Common pitfalls when pricing services for clients</li>\n	<li>Setting payment terms with clients and how to get paid on time</li>\n	<li>Different models to build a six-figure business as a sole trader</li>\n</ul>\n<strong>Sales and Marketing expert\, Christina McGreevy\, Head of Sales at Accountant Online </strong>will demonstrate the differences between sole trader vs limited company\, and offer advice for those considering changing from a business to a company and cover what&rsquo\;s involved in registering for VAT.<br />\n<br />\n<br />\n<strong>&nbsp\;Zoom meeting registration:&nbsp\;</strong><br />\n<br />\n<strong>When:</strong> Mar 6\, 2024 14:00 (2pm)<br />\n<br />\n<strong>Register in advance for this meeting:</strong><br />\n<br />\n<a href="https://bit.ly/3P80PGr">https://bit.ly/3P80PGr</a><br />\n<br />\nAfter registering\, you will receive a confirmation email containing information about joining the session.&nbsp\;<br />\n&nbsp\;
LOCATION:ONLINE // ZOOM https://bit.ly/3P80PGr
UID:e.3653.36
SEQUENCE:3
DTSTAMP:20260420T044612Z
URL:https://business.letterkennychamber.com/events/details/pricing-and-defining-your-service-based-business-masterclass-with-beth-gladstone-supported-by-accountant-online-36
END:VEVENT

END:VCALENDAR
