BEGIN:VCALENDAR
VERSION:2.0
PRODID:-//ChamberMaster//Event Calendar 2.0//EN
METHOD:PUBLISH
X-PUBLISHED-TTL:P3D
REFRESH-INTERVAL:P3D
CALSCALE:GREGORIAN
BEGIN:VEVENT
DTSTART:20241010T073000Z
DTEND:20241010T090000Z
X-MICROSOFT-CDO-ALLDAYEVENT:FALSE
SUMMARY:PR Workshop For Business Growth - with Inis Communications
DESCRIPTION:Workshop with Trish Hegarty\, Director of Inis Communications.\n\n\n\nTo celebrate 20 years in business\, Trish Hegarty is giving back to the business community - offering an interactive workshop to fellow Chamber Members with an interest in learning more about PR.\n\n\n\nJoin us for this interactive session designed to help businesses understand the power of PR and how it can drive business growth.\n\n\n\nIn this practical workshop\, Trish Hegarty\, a seasoned media and PR professional and director of the award-winning Inis Communications\, will share her expert knowledge on what PR is and how it can significantly impact your business.\n\n\n\nThrough detailed case studies and discussion points\, you'll learn how effective PR strategies can enhance visibility\, build reputation\, and grow your audience and your business.\n\n\n\nThis workshop will offer:\n\n	A clear understanding of PR and its role in business success\n	Practical insights into how PR can elevate your brand and increase customer/client engagement\n	Case studies that showcase the real impact of PR on audience and business growth\n\nWho this event is for:\n\n\n\nTailored to businesses of all sizes\, owners/managers\, social enterprises and projects of all kinds. Those responsible for promoting your business/organisation are all welcome to attend.\n\n\n\nDon't miss this opportunity to learn from an industry expert in a dynamic\, focused setting.\n\n\n\nLimited places to make for an engaging session so please book here or email marie@letterkennychamber.com to secure your space.\n\n\n\nComplementary to Chamber Members\n\n 15 for non-members\n\n\n\nAbout Trish Hegarty \n\n \n\nEx-BBC and Irish Times journalist\, Trish Hegarty\, is the founder and director of the results-driven PR agency\, Inis Communications. She created the award-winning #LoveDonegal Day campaign\, which reached global audiences of over 33.5 million. In 2023\, Trish launched an online PR Toolkit  Inis expertise   which is the first of its kind and aims to revolutionise access to PR for SMEs.\n\nShe is celebrating 20 years in business this year\, working with small businesses\, professional practices\, public bodies\, national organisations\, charities and social enterprises of all kinds including: F ilte Ireland\,  dar s na Gaeltachta\, Irish Lights\, B&B Ireland\, Foyle Port\, the Irish Fish Producers Organisation\, CARI\, and Spraoi agus Sp rt.
X-ALT-DESC;FMTTYPE=text/html:<strong>Workshop with Trish Hegarty\, Director of Inis Communications.</strong><br />\n<br />\n<strong>To celebrate 20 years in business\, Trish Hegarty is giving back to the business community - offering an interactive workshop to fellow Chamber Members with an interest in learning more about PR.</strong><br />\n<br />\nJoin us for this interactive session designed to help businesses understand the power of PR and how it can drive business growth.<br />\n<br />\nIn this practical workshop\,&nbsp\;<strong>Trish Hegarty\,</strong>&nbsp\;a seasoned media and PR professional and director of the award-winning Inis Communications\, will share her expert knowledge on what PR is and how it can significantly impact your business.<br />\n<br />\nThrough detailed case studies and discussion points\, you&#39\;ll learn how effective PR strategies can enhance visibility\, build reputation\, and grow your audience and your business.<br />\n<br />\n<strong>This workshop will offer:</strong>\n<ul>\n	<li>A clear understanding of PR and its role in business success</li>\n	<li>Practical insights into how PR can elevate your brand and increase customer/client engagement</li>\n	<li>Case studies that showcase the real impact of PR on audience and business growth</li>\n</ul>\n<strong>Who this event is for:</strong><br />\n<br />\nTailored to businesses of all sizes\, owners/managers\, social enterprises and projects of all kinds. Those responsible for promoting your business/organisation are all welcome to attend.<br />\n<br />\nDon&rsquo\;t miss this opportunity to learn from an industry expert in a dynamic\, focused setting.<br />\n<br />\nLimited places to make for an engaging session so please book here or email <a href="mailto:marie@letterkennychamber.com">marie@letterkennychamber.com</a> to secure your space.<br />\n<br />\n<strong>Complementary to Chamber Members<br />\n&euro\;15 for non-members<br />\n<br />\n<u><span style="color:black\;"><span style="font-family:times new roman\,serif\;"><span style="font-size:12.0pt\;">About Trish Hegarty</span></span></span></u></strong><strong><span style="color:black\;"><span style="font-family:times new roman\,serif\;"><span style="font-size:12.0pt\;"> </span></span></span></strong><br />\n&nbsp\;<br />\nEx-BBC and Irish Times journalist\, Trish Hegarty\, is the founder and director of the results-driven PR agency\, Inis Communications. She created the award-winning #LoveDonegal Day campaign\, which reached global audiences of over 33.5 million. In 2023\, Trish launched an online PR Toolkit&ndash\; Inis expertise &ndash\; which is the first of its kind and aims to revolutionise access to PR for SMEs.<br />\nShe is celebrating 20 years in business this year\, working with small businesses\, professional practices\, public bodies\, national organisations\, charities and social enterprises of all kinds including: F&aacute\;ilte Ireland\, &Uacute\;dar&aacute\;s na Gaeltachta\, Irish Lights\, B&amp\;B Ireland\, Foyle Port\, the Irish Fish Producers Organisation\, CARI\, and Spraoi agus Sp&oacute\;rt.<br />\n&nbsp\;<br />\n<br />\n&nbsp\;
LOCATION:CoLab\, Letterkenny (ATU Donegal\, Letterkenny Campus)
UID:e.3653.48
SEQUENCE:3
DTSTAMP:20260419T193241Z
URL:https://business.letterkennychamber.com/events/details/pr-workshop-for-business-growth-with-inis-communications-48
END:VEVENT

END:VCALENDAR
