BEGIN:VCALENDAR
VERSION:2.0
PRODID:-//ChamberMaster//Event Calendar 2.0//EN
METHOD:PUBLISH
X-PUBLISHED-TTL:P3D
REFRESH-INTERVAL:P3D
CALSCALE:GREGORIAN
BEGIN:VEVENT
DTSTART:20240509T073000Z
DTEND:20240509T093000Z
X-MICROSOFT-CDO-ALLDAYEVENT:FALSE
SUMMARY:People and Skills Event - Sponsored by Tech Northwest Skillnet
DESCRIPTION:Join Letterkenny Chamber and Tech Northwest Skillnet for our People and Skills Event\, Thursday 9th of May at 8.30am in Century Cinemas. \n\n\n\nAt this insightful and practical morning event we will hear from local business leaders on their experiences with - and outlook on - People and Skills. \n\n\n\nFrom challenges and opportunities around recruitment and retention\, nurturing and developing talent\, creating a positive culture\, bridging skills gaps and facilitating growth - we'll learn first-hand from Owners\, Directors and Managers from a range of  business backgrounds\, sizes and sectors (Construction\, RegTech\, InsurTech\, Hospitality\, Education and Finance) on the potential within the workforce in our region.\n\n\n\n//\n\n\n\nKeynote Speakers: \n\n\n\nChantelle Grant - General Manager\, Century Complex\n\n\n\nSarah Kinsley - HR Director\, PGIM Ireland\n\n\n\nPanel Discussion: \n\n\n\nMC - Eve-Anne McCarron\, External Engagement Manager\, ATU Donegal\n\n\n\nSylvester Clancy - Executive Director\, FinTrU \n\n\n\nConall Dunne - Principal and Founder\, Connall Dunne & Co Chartered Accountants and Founder\, Easy Customs. \n\n\n\n\n\nTanya Russell - Bid Manager\, Boyle Construction\n\n\n\n//\n\n\n\nAll welcome\, this event is ideal for Owner/Managers\, HR professionals\, Office Managers\, those with an interest in/responsibility for recruitment\, management of people\, skills and development.\n\n\n\n There will be ample networking opportunities\, and light refreshments served on arrival. \n\n\n\nHosted in Century Cinemas\, this event is complementary to Chamber Members and  10 to non-Chamber Members. \n\n\n\nBook here or email marie@letterkennychamber.com to secure your space. \n\n\n\nMeet the Panel: \n\n\n\nSylvester Clancy - Executive Director Sylvester Clancy is the site lead of FinTrU Ireland. Based at FinTrU's Letterkenny office\, he also has responsibility for a number of strategic client engagements.\n\n\n\nSylvester has over 20 years' experience in the financial services industry. During this time\, he has led global teams\, delivering operational excellence across Information Technology\, Compliance\, and Cyber Security sectors.\n\nPrior to joining FinTrU\, Sylvester was Vice President of Information Security for a global Fortune 500 company.\n\n\n\nHe is a graduate from Atlantic Technological University (ATU) (Batchelor of Science in Applied Computing) and University of Galway (Master of Business Administration). \n\n\n\nTanya Russell is responsible for the development of compelling bid proposals showcasing Boyle Construction's technical expertise as well as resonating with the client's needs and expectations\, leading out on Boyle Construction's deep and demonstrable commitment to delivering value and exceeding client expectations. \n\n\n\nTanya is the point of contact for recruiting and nurturing the talent on behalf of Boyle Construction\, a company at the forefront of the construction industry\, with a strong reputation as an employer of choice\, reflective of their focus on retention\, and development of career growth opportunities.\n\n\n\nBoyle Construction is a reputable and well-established construction company that has been a key player in the industry for over four decades. Founded in 1984 by Donal Boyle and Eugene Boyle\, the company has grown from its humble beginnings to become a leading name in the construction sector. The Company is now under management of brothers Martin Boyle and Michael Boyle. \n\n\n\nConall Dunne - Conall Dunne is the owner of a local Chartered Accountancy Practice and he also has established a Customs Clearance Agency in Letterkenny providing customs clearance services to customers in the UK and Ireland. The businesses have grown since inception and plan to go beyond 20 employees in 2024.
X-ALT-DESC;FMTTYPE=text/html:<br />\n<span style="color:#333333\;"><span style="font-family:arial\,sans-serif\;"><span style="font-size:10.0pt\;"><span style="background:white\;"><span style="font-variant-ligatures:normal\;font-variant-caps:normal\;orphans:2\;text-align:start\;widows:2\;-webkit-text-stroke-width:0px\;text-decoration-thickness:initial\;text-decoration-style:initial\;float:none\;word-spacing:0px\;">Join Letterkenny Chamber and Tech Northwest Skillnet for our People and Skills Event\, Thursday 9th of May at 8.30am in Century Cinemas.&nbsp\;</span></span><br style="font-variant-ligatures:normal\;font-variant-caps:normal\;orphans:2\;text-align:start\;widows:2\;-webkit-text-stroke-width:0px\;text-decoration-thickness:initial\;text-decoration-style:initial\;word-spacing:0px\;" />\n<br style="font-variant-ligatures:normal\;font-variant-caps:normal\;orphans:2\;text-align:start\;widows:2\;-webkit-text-stroke-width:0px\;text-decoration-thickness:initial\;text-decoration-style:initial\;word-spacing:0px\;" />\n<span style="background:white\;"><span style="font-variant-ligatures:normal\;font-variant-caps:normal\;orphans:2\;text-align:start\;widows:2\;-webkit-text-stroke-width:0px\;text-decoration-thickness:initial\;text-decoration-style:initial\;float:none\;word-spacing:0px\;">At this insightful and practical morning event we will hear from local business leaders on their experiences with - and outlook on - People and Skills.&nbsp\;</span></span><br style="font-variant-ligatures:normal\;font-variant-caps:normal\;orphans:2\;text-align:start\;widows:2\;-webkit-text-stroke-width:0px\;text-decoration-thickness:initial\;text-decoration-style:initial\;word-spacing:0px\;" />\n<br style="font-variant-ligatures:normal\;font-variant-caps:normal\;orphans:2\;text-align:start\;widows:2\;-webkit-text-stroke-width:0px\;text-decoration-thickness:initial\;text-decoration-style:initial\;word-spacing:0px\;" />\n<span style="background:white\;"><span style="font-variant-ligatures:normal\;font-variant-caps:normal\;orphans:2\;text-align:start\;widows:2\;-webkit-text-stroke-width:0px\;text-decoration-thickness:initial\;text-decoration-style:initial\;float:none\;word-spacing:0px\;">From challenges and opportunities around recruitment and retention\, nurturing and developing talent\, creating a positive culture\, bridging skills gaps and facilitating growth - we&#39\;ll learn first-hand from Owners\, Directors and Managers from a range of&nbsp\; business backgrounds\, sizes and sectors (Construction\, RegTech\, InsurTech\, Hospitality\, Education and Finance)</span> on the potential within the workforce in our region.<br />\n<br />\n//<br />\n<br />\nKeynote Speakers:&nbsp\;<br />\n<br />\n<strong>Chantelle Grant - General Manager\, Century Complex<br />\n<br />\nSarah Kinsley - HR Director\, PGIM Ireland</strong><br />\n<br />\nPanel Discussion:&nbsp\;<br />\n<br />\n<strong>MC - Eve-Anne McCarron\, External Engagement Manager\, ATU Donegal</strong></span></span></span></span><br />\n<br />\n<strong style="font-family: arial\, sans-serif\; font-size: 13.3333px\;">Sylvester Clancy - Executive Director\, FinTrU&nbsp\;</strong><br />\n<br />\n<span style="color:#333333\;"><span style="font-family:arial\,sans-serif\;"><span style="font-size:10.0pt\;"><span style="background:white\;"><strong>Conall Dunne - Principal and Founder\, Connall Dunne &amp\; Co Chartered Accountants and Founder\, Easy Customs.&nbsp\;</strong><br />\n<br />\n<br />\n<strong>Tanya Russell - Bid Manager\, Boyle Construction</strong></span><br />\n<br />\n//<br />\n<br style="font-variant-ligatures:normal\;font-variant-caps:normal\;orphans:2\;text-align:start\;widows:2\;-webkit-text-stroke-width:0px\;text-decoration-thickness:initial\;text-decoration-style:initial\;word-spacing:0px\;" />\n<span style="background:white\;"><span style="font-variant-ligatures:normal\;font-variant-caps:normal\;orphans:2\;text-align:start\;widows:2\;-webkit-text-stroke-width:0px\;text-decoration-thickness:initial\;text-decoration-style:initial\;float:none\;word-spacing:0px\;">All welcome\, this event is ideal for Owner/Managers\, HR professionals\, Office Managers\, those with an interest in/responsibility for recruitment\, management of people\, skills and development.</span></span><br style="font-variant-ligatures:normal\;font-variant-caps:normal\;orphans:2\;text-align:start\;widows:2\;-webkit-text-stroke-width:0px\;text-decoration-thickness:initial\;text-decoration-style:initial\;word-spacing:0px\;" />\n<br style="font-variant-ligatures:normal\;font-variant-caps:normal\;orphans:2\;text-align:start\;widows:2\;-webkit-text-stroke-width:0px\;text-decoration-thickness:initial\;text-decoration-style:initial\;word-spacing:0px\;" />\n<span style="background:white\;"><span style="font-variant-ligatures:normal\;font-variant-caps:normal\;orphans:2\;text-align:start\;widows:2\;-webkit-text-stroke-width:0px\;text-decoration-thickness:initial\;text-decoration-style:initial\;float:none\;word-spacing:0px\;">&#8203\;</span><span style="font-variant-ligatures:normal\;font-variant-caps:normal\;orphans:2\;text-align:start\;widows:2\;-webkit-text-stroke-width:0px\;text-decoration-thickness:initial\;text-decoration-style:initial\;float:none\;word-spacing:0px\;">There will be ample networking opportunities\, and light refreshments served on arrival.&nbsp\;</span></span><br style="font-variant-ligatures:normal\;font-variant-caps:normal\;orphans:2\;text-align:start\;widows:2\;-webkit-text-stroke-width:0px\;text-decoration-thickness:initial\;text-decoration-style:initial\;word-spacing:0px\;" />\n<br style="font-variant-ligatures:normal\;font-variant-caps:normal\;orphans:2\;text-align:start\;widows:2\;-webkit-text-stroke-width:0px\;text-decoration-thickness:initial\;text-decoration-style:initial\;word-spacing:0px\;" />\n<span style="background:white\;"><span style="font-variant-ligatures:normal\;font-variant-caps:normal\;orphans:2\;text-align:start\;widows:2\;-webkit-text-stroke-width:0px\;text-decoration-thickness:initial\;text-decoration-style:initial\;float:none\;word-spacing:0px\;">Hosted in Century Cinemas\, this event is complementary to Chamber Members and &euro\;10 to non-Chamber Members.&nbsp\;</span></span></span></span></span><br />\n<br />\nBook here or email marie@letterkennychamber.com to secure your space.&nbsp\;<br />\n<br />\n<strong>Meet the Panel:&nbsp\;</strong><br />\n<br />\n<strong>Sylvester Clancy </strong>- Executive Director Sylvester Clancy is the site lead of FinTrU Ireland. Based at FinTrU&rsquo\;s Letterkenny office\, he also has responsibility for a number of strategic client engagements.<br />\n<br />\nSylvester has over 20 years&rsquo\; experience in the financial services industry. During this time\, he has led global teams\, delivering operational excellence across Information Technology\, Compliance\, and Cyber Security sectors.<br />\nPrior to joining FinTrU\, Sylvester was Vice President of Information Security for a global Fortune 500 company.<br />\n<br />\nHe is a graduate from Atlantic Technological University (ATU) (Batchelor of Science in Applied Computing) and University of Galway (Master of Business Administration).&nbsp\;<br />\n<br />\n<strong>Tanya Russell </strong>is responsible for the development of compelling bid proposals showcasing Boyle Construction&#39\;s technical expertise as well as resonating with the client&#39\;s needs and expectations\, leading out on Boyle Construction&#39\;s deep and demonstrable commitment to delivering value and exceeding client expectations.&nbsp\;<br />\n<br />\nTanya is the point of contact for recruiting and nurturing the talent on behalf of Boyle Construction\, a company at the forefront of the construction industry\, with a strong reputation as an employer of choice\, reflective of their focus on retention\, and development of career growth opportunities.<br />\n<br />\nBoyle Construction is a reputable and well-established construction company that has been a key player in the industry for over four decades. Founded in 1984 by Donal Boyle and Eugene Boyle\, the company has grown from its humble beginnings to become a leading name in the construction sector. The Company is now under management of brothers Martin Boyle and Michael Boyle.&nbsp\;<br />\n<br />\n<strong>Conall Dunne</strong> - Conall Dunne is the owner of a local Chartered Accountancy Practice and he also has established a Customs Clearance Agency in Letterkenny providing customs clearance services to customers in the UK and Ireland. The businesses have grown since inception and plan to go beyond 20 employees in 2024.
LOCATION:Held in Century Cinemas (main Cinema Building entrance) plenty of parking\,
UID:e.3653.43
SEQUENCE:3
DTSTAMP:20260420T015848Z
URL:https://business.letterkennychamber.com/events/details/people-and-skills-event-sponsored-by-tech-northwest-skillnet-43
END:VEVENT

END:VCALENDAR
