BEGIN:VCALENDAR
VERSION:2.0
PRODID:-//ChamberMaster//Event Calendar 2.0//EN
METHOD:PUBLISH
X-PUBLISHED-TTL:P3D
REFRESH-INTERVAL:P3D
CALSCALE:GREGORIAN
BEGIN:VEVENT
DTSTART;VALUE=DATE:20241107
DTEND;VALUE=DATE:20241108
TRANSP:TRANSPARENT
X-MICROSOFT-CDO-ALLDAYEVENT:TRUE
SUMMARY:Northwest Future of Energy Conference
DESCRIPTION:The Londonderry Chamber of Commerce and Letterkenny Chamber of Commerce are pleased to announce the North West Future of Energy Conference.\n\n \n\n\n\n\n\n\n\n\n\n\n\nSponsored by SSE Renewables\, this annual cross-border event brings together energy suppliers\, technology providers\, industry buyers\, investors\, and policymakers to share knowledge and showcase energy innovation.\n\nThe conference will feature a keynote speech\, panel discussions\, and lightning talks\, alongside an exhibition of cutting-edge products and services that advance the green economy on both sides of the border.\n\nWith over 100 delegates attending the North West Future of Energy Conference in 2023 and growing support this year\, we anticipate significant interest from participants.\n\nStay tuned for further details on our speakers\, panellists\, and exhibitors.\n\n\n\n   Booking link\, here
X-ALT-DESC;FMTTYPE=text/html:<div class="flex-shrink-0 flex flex-col relative items-end" style="box-sizing: inherit\; margin: 0px\; padding: 0px\; color: rgb(10\, 10\, 10)\; font-family: &quot\;Helvetica Neue&quot\;\, Helvetica\, Roboto\, Arial\, sans-serif\; font-size: 16px\; background-color: rgb(254\, 254\, 254)\;">\n<div style="box-sizing: inherit\; margin: 0px\; padding: 0px\;">\n<div class="pt-0" style="box-sizing: inherit\; margin: 0px\; padding: 0px\;">\n<div class="gizmo-bot-avatar flex h-8 w-8 items-center justify-center overflow-hidden rounded-full" style="box-sizing: inherit\; margin: 0px\; padding: 0px\;">\n<div class="relative p-1 rounded-sm flex items-center justify-center bg-token-main-surface-primary text-token-text-primary h-8 w-8" style="box-sizing: inherit\; margin: 0px\; padding: 0px\;"><span style="font-size:16px\;"><span style="box-sizing: inherit\; color: rgb(0\, 0\, 0)\; font-family: Mulish\, sans-serif\;">The&nbsp\;Londonderry Chamber of Commerce&nbsp\;and&nbsp\;Letterkenny Chamber of Commerce&nbsp\;are pleased to announce the North West Future of Energy Conference.</span></span></div>\n\n<div style="box-sizing: inherit\; margin: 0px\; padding: 0px\;">&nbsp\;</div>\n</div>\n</div>\n</div>\n</div>\n\n<div class="group/conversation-turn relative flex w-full min-w-0 flex-col agent-turn" style="box-sizing: inherit\; margin: 0px\; padding: 0px\; color: rgb(10\, 10\, 10)\; font-family: &quot\;Helvetica Neue&quot\;\, Helvetica\, Roboto\, Arial\, sans-serif\; font-size: 16px\; background-color: rgb(254\, 254\, 254)\;">\n<div class="flex-col gap-1 md:gap-3" style="box-sizing: inherit\; margin: 0px\; padding: 0px\;">\n<div class="flex flex-grow flex-col max-w-full" style="box-sizing: inherit\; margin: 0px\; padding: 0px\;">\n<div class="min-h-[20px] text-message flex w-full flex-col items-end gap-2 whitespace-pre-wrap break-words [.text-message+&amp\;]:mt-5 overflow-x-auto" data-message-author-role="assistant" data-message-id="b90fd5e9-fe41-4454-a789-f6d17deb8593" dir="auto" style="box-sizing: inherit\; margin: 0px\; padding: 0px\;">\n<div class="flex w-full flex-col gap-1 empty:hidden first:pt-[3px]" style="box-sizing: inherit\; margin: 0px\; padding: 0px\;">\n<div class="markdown prose w-full break-words dark:prose-invert light" style="box-sizing: inherit\; margin: 0px\; padding: 0px\;">\n<p style="box-sizing: inherit\; margin: 0px 0px 30px\; padding: 0px\; font-size: 22px\; line-height: 1.6em\; text-rendering: optimizelegibility\; font-family: Mulish\, sans-serif\; color: rgb(0\, 0\, 0)\;"><span style="font-size:16px\;">Sponsored by&nbsp\;<strong><a href="https://www.sserenewables.com/" style="box-sizing: inherit\; background-color: transparent\; line-height: inherit\; color: rgb(210\, 49\, 39)\; text-decoration-line: none\; cursor: pointer\; transition: 0.3s ease-in-out\;"><span style="color:#008080\;">SSE Renewables</span></a></strong><span style="color:#008000\;">\,</span> this annual cross-border event brings together energy suppliers\, technology providers\, industry buyers\, investors\, and policymakers to share knowledge and showcase energy innovation.</span></p>\n\n<p style="box-sizing: inherit\; margin: 0px 0px 30px\; padding: 0px\; font-size: inherit\; line-height: 1.6\; text-rendering: optimizelegibility\; font-family: Mulish\, sans-serif\; color: rgb(0\, 0\, 0)\;"><span style="font-size:16px\;">The conference will feature a keynote speech\, panel discussions\, and lightning talks\, alongside an exhibition of cutting-edge products and services that advance the green economy on both sides of the border.</span></p>\n\n<p style="box-sizing: inherit\; margin: 0px 0px 30px\; padding: 0px\; font-size: inherit\; line-height: 1.6\; text-rendering: optimizelegibility\; font-family: Mulish\, sans-serif\; color: rgb(0\, 0\, 0)\;"><span style="font-size:16px\;">With over 100 delegates attending the North West Future of Energy Conference in&nbsp\;<a href="https://londonderrychamber.co.uk/2023-north-west-future-of-energy-conference-exhibition/" style="box-sizing: inherit\; background-color: transparent\; line-height: inherit\; color: rgb(210\, 49\, 39)\; text-decoration-line: none\; cursor: pointer\; transition: 0.3s ease-in-out\;">2023</a>&nbsp\;and growing support this year\, we anticipate significant interest from participants.</span></p>\n\n<p style="box-sizing: inherit\; margin: 0px 0px 30px\; padding: 0px\; font-size: inherit\; line-height: 1.6\; text-rendering: optimizelegibility\; font-family: Mulish\, sans-serif\; color: rgb(0\, 0\, 0)\;"><span style="font-size:16px\;">Stay tuned for further details on our speakers\, panellists\, and exhibitors.<br />\n<br />\n<a href="https://londonderrychamber.co.uk/events/north-west-future-of-energy-conference-2/"><span style="font-size:18px\;"><strong>&gt\;&gt\; Booking link\, here &lt\;&lt\;</strong></span></a></span></p>\n</div>\n</div>\n</div>\n</div>\n</div>\n</div>\n
LOCATION:Ebrington Square\, Derry\, BT47 6FA\, Northern Ireland
UID:e.3653.47
SEQUENCE:3
DTSTAMP:20260419T154743Z
URL:https://business.letterkennychamber.com/events/details/northwest-future-of-energy-conference-47
END:VEVENT

END:VCALENDAR
