BEGIN:VCALENDAR
VERSION:2.0
PRODID:-//ChamberMaster//Event Calendar 2.0//EN
METHOD:PUBLISH
X-PUBLISHED-TTL:P3D
REFRESH-INTERVAL:P3D
CALSCALE:GREGORIAN
BEGIN:VEVENT
DTSTART:20241001T073000Z
DTEND:20241001T210000Z
X-MICROSOFT-CDO-ALLDAYEVENT:FALSE
SUMMARY:National Age Friendly Recognition Programme - Training Session
DESCRIPTION:Short Training Session \n\n\n\nDid you know that there are more than 1 million older people (60+) living and shopping in Ireland\, a number that is growing all the time?\n\n \n\nAge Friendly Ireland and Donegal Local Enterprise Office are excited to introduce you to Age Friendly Ireland's Business Recognition Training\, a unique opportunity to enhance your retail business and better serve our aging population in Donegal.\n\n \n\nWhy Join?\n\n	Significant Consumer Spending : Older people account for up to 50% of consumer spending. They have time to shop\, they like to shop and they are loyal customers. \n\n\n\n	Enhanced Customer Loyalty : Provide a welcoming  accessible  consumer experience that  keep customers coming back\n\n\n\n	Positive Brand Image : Show your commitment to inclusivity and social responsibility\n\n \n\nAre you doing everything you can to capture and retain  this powerful customer base?\n\n \n\nThe training programme provides simple and practical ways to make your business more accessible and appealing to older people. By advertising yourself as an Age Friendly business\, you are letting older people know you value their custom and are committed to serving them\, setting you apart from the competition.\n\n \n\nJoin us in driving your business success\, while creating a more inclusive community.\n\n \n\nRegister using the link above or email marie@letterkennychamber.com
X-ALT-DESC;FMTTYPE=text/html:<span style="color:black\;"><span style="font-family:aptos\,sans-serif\;"><strong>Short Training Session&nbsp\;</strong><br />\n<br />\nDid you know that there are more than 1 million older people (60+) living and shopping in Ireland\, a number that is growing all the time?</span></span><br />\n&nbsp\;<br />\n<span style="color:black\;"><span style="font-family:aptos\,sans-serif\;">Age Friendly Ireland and Donegal Local Enterprise Office are excited to introduce you to Age Friendly Ireland&#39\;s Business Recognition Training\, a unique opportunity to enhance your retail business and better serve our aging population in Donegal.</span></span><br />\n&nbsp\;<br />\n<span style="color:black\;"><span style="font-family:aptos\,sans-serif\;">Why Join?</span></span>\n<ul>\n	<li style="color:black\;"><span style="font-family:aptos\,sans-serif\;">Significant Consumer Spending : Older people account for up to 50% of consumer spending. They have time to shop\, they like to shop and they are loyal customers.&nbsp\;</span></li>\n</ul>\n\n<ul>\n	<li style="color:black\;"><span style="font-family:aptos\,sans-serif\;">Enhanced Customer Loyalty : Provide a welcoming &nbsp\;accessible &nbsp\;consumer experience that&nbsp\; keep customers coming back</span></li>\n</ul>\n\n<ul>\n	<li style="color:black\;"><span style="font-family:aptos\,sans-serif\;">Positive Brand Image : Show your commitment to inclusivity and social responsibility</span></li>\n</ul>\n&nbsp\;<br />\n<span style="color:black\;"><span style="font-family:aptos\,sans-serif\;">Are you doing everything you can to capture and retain &nbsp\;this powerful customer base?</span></span><br />\n&nbsp\;<br />\n<span style="color:black\;"><span style="font-family:aptos\,sans-serif\;">The training programme provides simple and practical ways to make your business more accessible and appealing to older people. By advertising yourself as an Age Friendly business\, you are letting older people know you value their custom and are committed to serving them\, setting you apart from the competition.</span></span><br />\n&nbsp\;<br />\n<span style="color:black\;"><span style="font-family:aptos\,sans-serif\;">Join us in driving your business success\, while creating a more inclusive community.</span></span><br />\n&nbsp\;<br />\nRegister using the link above or email marie@letterkennychamber.com&nbsp\;<br />\n&nbsp\;
LOCATION:Dillons Hotel\, Main Street - Letterkenny
UID:e.3653.49
SEQUENCE:3
DTSTAMP:20260419T174400Z
URL:https://business.letterkennychamber.com/events/details/national-age-friendly-recognition-programme-training-session-49
END:VEVENT

END:VCALENDAR
