BEGIN:VCALENDAR
VERSION:2.0
PRODID:-//ChamberMaster//Event Calendar 2.0//EN
METHOD:PUBLISH
X-PUBLISHED-TTL:P3D
REFRESH-INTERVAL:P3D
CALSCALE:GREGORIAN
BEGIN:VEVENT
DTSTART:20230419T073000Z
DTEND:20230419T090000Z
X-MICROSOFT-CDO-ALLDAYEVENT:FALSE
SUMMARY:Meet the President Breakfast Networking Event
DESCRIPTION:Meet our Letterkenny Chamber President\, Fionnuala Rabbitt\n\n\n\n \n\nAll welcome\, to attend our Breakfast Networking event in Kernans Bistro located in the Letterkenny Retail Park\, on Weds April 19th\, from 8.30am.\n\n\n\nWhy not call in before your working day begins\, for an opportunity to network with the Chamber team\, Chamber members\, and our Letterkenny Chamber President\, Fionnuala Rabbitt.\n\n\n\n\n\nBreakfast baps\, teas and coffees served.\n\n\n\nPlease RVSP by registering yourself/your team/your plus one on this page\, or - email Marie on marie@letterkennychamber.com
X-ALT-DESC;FMTTYPE=text/html:<br />\nMeet our Letterkenny Chamber President\, Fionnuala Rabbitt<br />\n<br />\n&nbsp\;<br />\nAll welcome\, to attend our Breakfast Networking event in Kernans Bistro located in the Letterkenny Retail Park\, on Weds April 19<sup>th</sup>\, from 8.30am.<br />\n<br />\nWhy not call in before your working day begins\, for an opportunity to network with the Chamber team\, Chamber members\, and our Letterkenny Chamber President\, Fionnuala Rabbitt.<br />\n<br />\n<br />\nBreakfast baps\, teas and coffees served.<br />\n<br />\nPlease RVSP by registering yourself/your team/your plus one on this page\, or - email Marie on <a href="mailto:marie@letterkennychamber.com">marie@letterkennychamber.com</a>
LOCATION:Kernans Bistro & Coffee Shop\, Letterkenny Retail Park
UID:e.3653.14
SEQUENCE:3
DTSTAMP:20260421T004351Z
URL:https://business.letterkennychamber.com/events/details/meet-the-president-breakfast-networking-event-14
END:VEVENT

END:VCALENDAR
