BEGIN:VCALENDAR
VERSION:2.0
PRODID:-//ChamberMaster//Event Calendar 2.0//EN
METHOD:PUBLISH
X-PUBLISHED-TTL:P3D
REFRESH-INTERVAL:P3D
CALSCALE:GREGORIAN
BEGIN:VEVENT
DTSTART:20240410T073000Z
DTEND:20240410T090000Z
X-MICROSOFT-CDO-ALLDAYEVENT:FALSE
SUMMARY:Meet the President Breakfast @ Kernans Bistro
DESCRIPTION:Join us for a morning of networking and an opportunity to meet our newly appointed Letterkenny Chamber President\, Claire McDonough   La Maison Interior Design Studio.\n\n\n\nThis event is kindly sponsored by PTSB\, Worldpay and Bibby Financial Services.\n\n\n\nNetwork with fellow Chamber members in a friendly environment over a light breakfast.\n\n\n\nCatch-up with and meet businesses from the wider business community.\n\nSpeak to our Chamber team and Council.\n\n\n\nHear from our Chamber President about forthcoming plans for the year ahead.\n\n\n\nWhen: 8.30am   10am\, Wednesday - April 10th\, 2024\n\n\n\nWho: This annual event is open to everyone with an interest in meeting with and welcoming our Chamber President\, Claire McDonough\n\n\n\n  Whether you're an owner/manager from a business or a representative in any area of the business with the desire to network. All welcome!\n\n\n\nRegistration: Complementary to Chamber Members.  10 entry fee to non-members.\n\n\n\nPlease RSVP/Register. Any issues registering please email Marie : marie@letterkennychamber.com\n\n\n\nWhere: This event will take place upstairs in Kernans Bistro\, Letterkenny Retail Park   plenty of parking in the retail park. Unit 3B\, Letterkenny Retail Park\, Paddy Harte Road\, Letterkenny.\n\n\n\nWe hope to see you there!
X-ALT-DESC;FMTTYPE=text/html:Join us for a morning of networking and an opportunity to meet our newly appointed Letterkenny Chamber President\, Claire McDonough &ndash\; La Maison Interior Design Studio.<br />\n<br />\nThis event is kindly sponsored by PTSB\, Worldpay and Bibby Financial Services.<br />\n<br />\nNetwork with fellow Chamber members in a friendly environment over a light breakfast.<br />\n<br />\nCatch-up with and meet businesses from the wider business community.<br />\nSpeak to our Chamber team and Council.<br />\n<br />\nHear from our Chamber President about forthcoming plans for the year ahead.<br />\n<br />\nWhen: 8.30am &ndash\; 10am\, Wednesday - April 10<sup>th</sup>\, 2024<br />\n<br />\nWho: This annual event is open to everyone with an interest in meeting with and welcoming our Chamber President\, Claire McDonough<br />\n<br />\n&ndash\; Whether you&rsquo\;re an owner/manager from a business or a representative in any area of the business with the desire to network. All welcome!<br />\n<br />\nRegistration: Complementary to Chamber Members. &euro\;10 entry fee to non-members.<br />\n<br />\nPlease RSVP/Register. Any issues registering please email Marie : <a href="mailto:marie@letterkennychamber.com">marie@letterkennychamber.com</a><br />\n<br />\nWhere: This event will take place upstairs in Kernans Bistro\, Letterkenny Retail Park &ndash\; plenty of parking in the retail park. Unit 3B\, Letterkenny Retail Park\, Paddy Harte Road\, Letterkenny.<br />\n<br />\nWe hope to see you there!
LOCATION:Upstairs in Kernans Bistro\, Letterkenny Retail Park plenty of parking in the retail park. Unit 3B\, Retail Park\, Paddy Harte Road
UID:e.3653.40
SEQUENCE:3
DTSTAMP:20260420T044624Z
URL:https://business.letterkennychamber.com/events/details/meet-the-president-breakfast-kernans-bistro-40
END:VEVENT

END:VCALENDAR
