BEGIN:VCALENDAR
VERSION:2.0
PRODID:-//ChamberMaster//Event Calendar 2.0//EN
METHOD:PUBLISH
X-PUBLISHED-TTL:P3D
REFRESH-INTERVAL:P3D
CALSCALE:GREGORIAN
BEGIN:VEVENT
DTSTART:20240905T073000Z
DTEND:20240905T083000Z
X-MICROSOFT-CDO-ALLDAYEVENT:FALSE
SUMMARY:Meet the Member - Rushe Fitness
DESCRIPTION:Join us for a networking breakfast event to close out the Summer - our next Letterkenny Chamber Meet the Member Event\, is with Rushe Fitness   Thursday 29th of August at 8.30am\, taking place at their fitness facility in the Enterprise Fund Business Centre\, Ballyraine\, Letterkenny. \n\n\n\nNo gym gear required! Come along before/on route to work - network with fellow Chamber Members and members of the wider business community\, grab a coffee and chat\, experience the stunning facilities\, hear a little about Emmet and Maria's business journey\, offering and future plans.\n\n\n\nWho is this event for? Our Meet the Member events are open to everyone\, come along\, bring a friend\, or send a colleague - all welcome! An effective way for members to welcome their peers in through the doors to get a glimpse of their business\, and to take an hour before the working day begins to catch up with one another and show support.\n\n\n\nFor those about to ask\, no - you won't be required to exercise (unless the notion takes you!) simply come along\, network\, learn a bit more about the dynamic fitness community and space that Rushe Fitness have grown over the last (almost!) ten years.\n\n\n\nCoffee and light bites will be served\, and registration is required on this page\, or email Marie marie@letterkennychamber.com to secure your spot.
X-ALT-DESC;FMTTYPE=text/html:<br />\nJoin us for a<strong> networking breakfast event to close out the Summer </strong>- our next Letterkenny Chamber Meet the Member Event\, is with Rushe Fitness &ndash\; <strong>Thursday 29th of August at 8.30am\,</strong> taking place at their fitness facility in the Enterprise Fund Business Centre\, Ballyraine\, Letterkenny.&nbsp\;<br />\n<br />\nNo gym gear required! Come along before/on route to work - network with fellow Chamber Members and members of the wider business community\, <strong>grab a coffee and chat\, experience the stunning facilities\, hear a little about Emmet and Maria&rsquo\;s business journey\, offering and future plans.</strong><br />\n<br />\n<strong>Who is this event for? </strong>Our Meet the Member events are open to everyone\, come along\, bring a friend\, or send a colleague - all welcome! An effective way for members to welcome their peers in through the doors to get a glimpse of their business\, and to take an hour before the working day begins to catch up with one another and show support.<br />\n<br />\nFor those about to ask\, <strong>no - you won&rsquo\;t be required to exercise</strong> (unless the notion takes you!) simply come along\,<strong> network\, learn a bit more about the dynamic fitness community and space that Rushe Fitness have grown</strong> over the last (almost!) ten years.<br />\n<br />\n<strong>Coffee and light bites will be served\, and registration is required</strong> on this page\, or email Marie <a href="mailto:marie@letterkennychamber.com">marie@letterkennychamber.com</a> to secure your spot.<br />\n&nbsp\;
LOCATION:Enterprise Fund Business Centre\, Ballyraine\, Letterkenny F92 XH56
UID:e.3653.46
SEQUENCE:3
DTSTAMP:20260419T191353Z
URL:https://business.letterkennychamber.com/events/details/meet-the-member-rushe-fitness-46
END:VEVENT

END:VCALENDAR
