BEGIN:VCALENDAR
VERSION:2.0
PRODID:-//ChamberMaster//Event Calendar 2.0//EN
METHOD:PUBLISH
X-PUBLISHED-TTL:P3D
REFRESH-INTERVAL:P3D
CALSCALE:GREGORIAN
BEGIN:VEVENT
DTSTART:20240227T143000Z
DTEND:20240227T160000Z
X-MICROSOFT-CDO-ALLDAYEVENT:FALSE
SUMMARY:Meet the Member Event - Andrea Devins Opticians
DESCRIPTION:Meet the Member - Andrea Devins Opticians. You're invited to join us as we visit Chamber Member\, Andrea Devins Opticians\, at Forte Retail Park\, Letterkenny on Tues 27th February 2024   an independent optician specialising in exclusive frames from over the world!\n\n\n\n \n\nEnjoy bubbles\, tea\, coffee and treats as well as networking with fellow Chamber Members! While the team - Andrea and Katie help expertly demonstrate the frame styles that best suit each face shape and introduce us to their selection of exclusive brands.\n\n\n\nNow in their second year of business in Letterkenny\, Andrea extends a warm welcome to fellow members to come along\, check out the space and try some frames.\n\n\n\nThere will be an informative and fun demo session explaining how to choose frames to best suit your lifestyle and face shape and comfort\, all delivered with friendly expertise by Andrea and Katie!\n\n\n\nThis is a complementary event for Chamber members but please RSVP - by clicking the registration button or messaging ourselves/Andrea to confirm you'll be joining us!
X-ALT-DESC;FMTTYPE=text/html:<br />\n<span style="background:white\;"><span style="color:#333333\;"><span style="font-family:arial\,sans-serif\;"><span style="font-size:10.0pt\;"><strong>Meet the Member - Andrea Devins Opticians. You&rsquo\;re invited to join us as we visit Chamber Member\, Andrea Devins Opticians\, at Forte Retail Park\, Letterkenny on Tues 27<sup>th</sup> February 2024</strong> &ndash\; an independent optician specialising in exclusive frames from over the world!</span></span></span></span><br />\n<br />\n<span style="color:#333333\;"><span style="font-family:arial\,sans-serif\;"><span style="font-size:10.0pt\;"><span style="background:white\;"><span style="font-variant-ligatures:normal\;font-variant-caps:normal\;orphans:2\;text-align:start\;widows:2\;-webkit-text-stroke-width:0px\;text-decoration-thickness:initial\;text-decoration-style:initial\;float:none\;word-spacing:0px\;">&#8203\;</span></span><br style="font-variant-ligatures:normal\;font-variant-caps:normal\;orphans:2\;text-align:start\;widows:2\;-webkit-text-stroke-width:0px\;text-decoration-thickness:initial\;text-decoration-style:initial\;word-spacing:0px\;" />\n<span style="background:white\;"><span style="font-variant-ligatures:normal\;font-variant-caps:normal\;orphans:2\;text-align:start\;widows:2\;-webkit-text-stroke-width:0px\;text-decoration-thickness:initial\;text-decoration-style:initial\;float:none\;word-spacing:0px\;">Enjoy bubbles\, tea\, coffee and treats as well as networking with fellow Chamber Members! While the team - Andrea and Katie help expertly demonstrate the frame styles that best suit each face shape and introduce us to their selection of exclusive brands.</span></span></span></span></span><br />\n<br />\n<span style="background:white\;"><span style="color:#333333\;"><span style="font-family:arial\,sans-serif\;"><span style="font-size:10.0pt\;">Now in their second year of business in Letterkenny\, Andrea extends a warm welcome to fellow members to come along\, check out the space and try some frames.<br />\n<br />\nThere will be an informative and fun demo session explaining how to choose frames to best suit your lifestyle and face shape and comfort\, all delivered with friendly expertise by Andrea and Katie!</span></span></span></span><br />\n<br />\n<strong><span style="background:white\;"><span style="color:#333333\;"><span style="font-family:arial\,sans-serif\;"><span style="font-size:10.0pt\;">This is a complementary event for Chamber members but please RSVP - by clicking the registration button or messaging ourselves/Andrea to confirm you&rsquo\;ll be joining us! </span></span></span></span></strong><br />\n&nbsp\;
LOCATION:Forte Retail Park\, Neil T Blaney Rd\, Letterkenny\, Co. Donegal\, F92 V602
UID:e.3653.39
SEQUENCE:3
DTSTAMP:20260420T063507Z
URL:https://business.letterkennychamber.com/events/details/meet-the-member-event-andrea-devins-opticians-39
END:VEVENT

END:VCALENDAR
