BEGIN:VCALENDAR
VERSION:2.0
PRODID:-//ChamberMaster//Event Calendar 2.0//EN
METHOD:PUBLISH
X-PUBLISHED-TTL:P3D
REFRESH-INTERVAL:P3D
CALSCALE:GREGORIAN
BEGIN:VEVENT
DTSTART:20250122T100000Z
DTEND:20250122T120000Z
X-MICROSOFT-CDO-ALLDAYEVENT:FALSE
SUMMARY:Meet the Chamber Coffee Morning
DESCRIPTION:Your opportunity to meet the Chamber team and council   Wednesday (22nd  Jan) at 10am\, if you're an existing member\, or a fairly new member   this is a great chance to catch-up with the Chamber.\n\n\n\nIf you're not a member (all welcome!) but have been keen to learn more about Letterkenny Chamber   do come along for a chat over coffee!\n\n\n\nTick your first networking event off the list to start January as you mean to go on - meeting new people and making connections with like-minded peers in the business community.\n\nAll more than welcome to attend.
X-ALT-DESC;FMTTYPE=text/html:Your opportunity to meet the Chamber team and council &ndash\; Wednesday (22nd&nbsp\;&nbsp\;Jan) at 10am\, if you&rsquo\;re an existing member\, or a fairly new member &ndash\; this is a great chance to catch-up with the Chamber.<br />\n<br />\nIf you&rsquo\;re not a member (all welcome!) but have been keen to learn more about Letterkenny Chamber &ndash\; do come along for a chat over coffee!<br />\n<br />\nTick your first networking event off the list to start January as you mean to go on - meeting new people and making connections with like-minded peers in the business community.<br />\nAll more than welcome to attend.
LOCATION:
UID:e.3653.35
SEQUENCE:3
DTSTAMP:20260419T124335Z
URL:https://business.letterkennychamber.com/events/details/meet-the-chamber-coffee-morning-35
END:VEVENT

END:VCALENDAR
