BEGIN:VCALENDAR
VERSION:2.0
PRODID:-//ChamberMaster//Event Calendar 2.0//EN
METHOD:PUBLISH
X-PUBLISHED-TTL:P3D
REFRESH-INTERVAL:P3D
CALSCALE:GREGORIAN
BEGIN:VEVENT
DTSTART:20231122T190000Z
DTEND:20231122T210000Z
X-MICROSOFT-CDO-ALLDAYEVENT:FALSE
SUMMARY:Marketing - AI and You - Supercharge Your Small Business. Donegal Women in Business Network and Letterkenny Chamber
DESCRIPTION:Date: 22nd November 2023\n\nTime: 7:00 PM - 9:00 PM\n\nLocation: Silver Tassie Hotel\, Letterkenny\n\n\n\nThis event is kindly sponsored by PTSB \n\n\n\nDonegal Women in Business Network and Letterkenny Chamber of Commerce are delighted to announce an upcoming joint venture for the business community.\n\n\n\n"Marketing: AI & You - Supercharge Your Small Business"\n\n \n\nThis collaborative event between Donegal Women in Business Network and Letterkenny Chamber\, is designed to help business owners understand the tools\, prompts and real examples of AI in driving business growth - focusing mainly on the areas of marketing and communication - while maintaining the essence of real human connection. \n\n\n\nAn event centred around the use of Artificial Intelligence (AI) in the day to day running of a business. Whether you're AI-curious or already aware of its capabilities\, this event aims to expand your understanding of AI to boost your business operations. \n\n \n\nKey Highlights covered at the event are:\n\n\n\n\n\nUnderstanding AI: Delve into the world of AI and discover how it can elevate your business operations by automating routine tasks\, thus freeing up your time to focus on other areas\n\n \n\nExpert Insights: Learn from our keynote speakers\, Natasha Peters\, Sales Driven Copywriter and Meghan Semple\, Performance Marketing Director at Digital24\, who will shed light on the practical applications and advantages of AI in today's business landscape with an emphasis on marketing and communication\n\n \n\nInteractive Panel Discussion: Engage with our panel comprising of Evelyn Mc Glynn (Evelyn Mc Marketing)\, Tommy McCafferty (Ghost Productions)\, Cressida Canavan (Canavan Digital) and Dr. Caitriona Strain (Ernact). They bring to the table a wealth of knowledge and diverse perspectives on AI working alongside the human element of creative marketing.\n\nThis panel of local SME owners will share their experiences and provide invaluable advice to those present\n\n \n\nRisk Assessment: Learn about the possible challenges you might face with AI and how to handle them to use AI safely and effectively in your business\n\n \n\nImpact Analysis: Explore how AI could change the way you do businesses\, especially if you offer services that can now be done automatically with AI technology.\n\n \n\nBalance: How to maintain the essence of real human communication and connection\n\n \n\nEngage in the discussions of the night\, share your experiences\, and network with business owners just like you.\n\n\n\nThis event is an opportunity to learn more and ask questions about AI. How it might help you use it in your business and learn the practical steps to leverage it effectively.\n\n \n\nCome together to  learn about the transformative potential of AI tools in driving business growth - while maintaining the essence of real human communication and connection.\n\n\n\n\n\nRegister here: https://bit.ly/3tcNCE2\n\n\n\nTickets:\n\n\n\nFree for members of DWIBN and Letterkenny Chamber\n\nNon-Members:  20\n\n\n\nThis joint gathering of Donegal Women in Business Network and Letterkenny Chamber of Commerce is sure to deliver a night filled with insightful discussions\, learning\, and networking opportunities.\n\n\n\nJoin us in embracing the future of business!
X-ALT-DESC;FMTTYPE=text/html:<span style="font-family:arial\,sans-serif\;">Date: 22nd November 2023</span><br />\n<span style="font-family:arial\,sans-serif\;">Time: 7:00 PM - 9:00 PM</span><br />\n<span style="font-family:arial\,sans-serif\;">Location: Silver Tassie Hotel\, Letterkenny<br />\n<br />\nThis event is kindly sponsored by <a href="https://www.ptsb.ie/">PTSB&nbsp\;</a></span><br />\n<br />\n<span style="font-family:arial\,sans-serif\;">Donegal Women in Business Network and Letterkenny Chamber of Commerce are delighted to announce an upcoming joint venture for the business community.<br />\n<br />\n&quot\;Marketing: AI &amp\; You - Supercharge Your Small Business&quot\;</span><br />\n&nbsp\;<br />\n<span style="font-family:arial\,sans-serif\;">This collaborative event between Donegal Women in Business Network and Letterkenny Chamber\, is designed to help business owners understand the tools\, prompts and real examples of AI in driving business growth - focusing mainly on the areas of marketing and communication - while maintaining the essence of real human connection.&nbsp\;<br />\n<br />\nAn event centred around the use of Artificial Intelligence (AI) in the day to day running of a business. Whether you&#39\;re AI-curious or already aware of its capabilities\, this event aims to expand your understanding of AI to boost your business operations.&nbsp\;<br />\n&nbsp\;<br />\nKey Highlights covered at the event are:</span><br />\n<br />\n<br />\n<span style="font-family:arial\,sans-serif\;">Understanding AI:&nbsp\;Delve into the world of AI and discover how it can elevate your business operations by automating routine tasks\, thus freeing up your time to focus on other areas</span><br />\n&nbsp\;<br />\n<span style="font-family:arial\,sans-serif\;">Expert Insights:&nbsp\;Learn from our keynote speakers\, Natasha Peters\, Sales Driven Copywriter and Meghan Semple\, Performance Marketing Director at Digital24\, who will shed light on the practical applications and advantages of AI in today&#39\;s business landscape with an emphasis on marketing and communication</span><br />\n&nbsp\;<br />\n<span style="font-family:arial\,sans-serif\;">Interactive Panel Discussion:&nbsp\;Engage with our panel comprising of Evelyn Mc Glynn (Evelyn Mc Marketing)\, Tommy McCafferty (Ghost Productions)\, Cressida Canavan (Canavan Digital) and Dr. Caitriona Strain (Ernact). They bring to the table a wealth of knowledge and diverse perspectives on AI working alongside the human element of creative marketing.</span><br />\n<span style="font-family:arial\,sans-serif\;">This panel of local SME owners will share their experiences and provide invaluable advice to those present</span><br />\n&nbsp\;<br />\n<span style="font-family:arial\,sans-serif\;">Risk Assessment:&nbsp\;Learn about the possible challenges you might face with AI and how to handle them to use AI safely and effectively in your business</span><br />\n&nbsp\;<br />\n<span style="font-family:arial\,sans-serif\;">Impact Analysis:&nbsp\;Explore how AI could change the way you do businesses\, especially if you offer services that can now be done automatically with AI technology.</span><br />\n&nbsp\;<br />\n<span style="font-family:arial\,sans-serif\;">Balance:&nbsp\;How to maintain the essence of real human communication and connection</span><br />\n&nbsp\;<br />\n<span style="font-family:arial\,sans-serif\;">Engage in the discussions of the night\, share your experiences\, and network with business owners just like you.</span><br />\n<br />\n<span style="font-family:arial\,sans-serif\;">This event is an opportunity to learn more and ask questions about AI. How it might help you use it in your business and learn the practical steps to leverage it effectively.<br />\n&nbsp\;</span><br />\n<span style="font-family:arial\,sans-serif\;">Come together to&nbsp\; learn about the transformative potential of AI tools in driving business growth - while maintaining the essence of real human communication and connection.</span><br />\n<br />\n<br />\n<span style="font-family:arial\,sans-serif\;">Register here: <a href="https://bit.ly/3tcNCE2"><span style="text-decoration-line:none\;"><span style="color:#333333\;">https://bit.ly/3tcNCE2</span></span></a><br />\n<br />\nTickets:<br />\n<br />\nFree for members of DWIBN and Letterkenny Chamber<br />\nNon-Members: &euro\;20<br />\n<br />\nThis joint gathering of Donegal Women in Business Network and Letterkenny Chamber of Commerce is sure to deliver a night filled with insightful discussions\, learning\, and networking opportunities.<br />\n<br />\nJoin us in embracing the future of business!</span><br />\n&nbsp\;
LOCATION:Silver Tassie Hotel\, Letterkenny
UID:e.3653.33
SEQUENCE:3
DTSTAMP:20260420T122537Z
URL:https://business.letterkennychamber.com/events/details/marketing-ai-and-you-supercharge-your-small-business-donegal-women-in-business-network-and-letterkenny-chamber-33
END:VEVENT

END:VCALENDAR
