BEGIN:VCALENDAR
VERSION:2.0
PRODID:-//ChamberMaster//Event Calendar 2.0//EN
METHOD:PUBLISH
X-PUBLISHED-TTL:P3D
REFRESH-INTERVAL:P3D
CALSCALE:GREGORIAN
BEGIN:VEVENT
DTSTART:20250709T090000Z
DTEND:20250709T100000Z
X-MICROSOFT-CDO-ALLDAYEVENT:FALSE
SUMMARY:Make the Most of TBEX – Visibility Strategies for Donegal Businesses
DESCRIPTION:TBEX Europe comes to Donegal in September\n\n\n\nWhat is it?\n\nOver 500 Travel Bloggers and Content Creators coming together for a 4 day conference on the 9th to the 12th Setember at ATU Letterkenny.\n\nDay tours and activities have been planned through TBEX but there are plenty of opportunities to put your business in front of them - online and offline. \n\nCalling all -\n\n\n\n  Restaurants\n\n  Hotels\,\n\n  Gift shops\n\n  Cafes\n\n  Tourist Destinations\n\n  Retail shops \n\n\n\nGet TBEX Ready with our 60 minute introduction to what TBEX is\, what will be happening and opportunities to sell. We will also hear from a content creator on top tips of how to take better photos and videos to market your business better online\, plus lots more. \n\n\n\n  Did you know you can create a promotion for TBEX attendees. It will be listed on their site  \n\n     https://tbexcon.com/europe-2025/europe-tbextras-2025/\n\n\n\n     https://tbexcon.com/europe-2025/
X-ALT-DESC;FMTTYPE=text/html:<strong>TBEX Europe comes to Donegal in September</strong><br />\n<br />\n<strong>What is it?</strong><br />\nOver 500 Travel Bloggers and Content Creators coming together for a 4 day conference on the 9th to the 12th Setember at ATU Letterkenny.<br />\nDay tours and activities have been planned through TBEX but there are plenty of opportunities to put your business in front of them - online and offline.&nbsp\;<br />\nCalling all -<br />\n<br />\n&#10004\;&#65039\;Restaurants<br />\n&#10004\;&#65039\;Hotels\,<br />\n&#10004\;&#65039\;Gift shops<br />\n&#10004\;&#65039\;Cafes<br />\n&#10004\;&#65039\;Tourist Destinations<br />\n&#10004\;&#65039\;Retail shops&nbsp\;<br />\n<br />\nGet TBEX Ready with our 60 minute introduction to what TBEX is\, what will be happening and opportunities to sell. We will also hear from a content creator on top tips of how to take better photos and videos to market your business better online\, plus lots more.&nbsp\;<br />\n<br />\n&#128161\; Did you know you can create a promotion for TBEX attendees. It will be listed on their site&nbsp\;&#128071\;<br />\n&nbsp\; &nbsp\; &nbsp\;https://tbexcon.com/europe-2025/europe-tbextras-2025/<br />\n<br />\n&nbsp\; &nbsp\; &nbsp\;https://tbexcon.com/europe-2025/
LOCATION:Online - Zoom
UID:e.3653.63
SEQUENCE:3
DTSTAMP:20260419T231628Z
URL:https://business.letterkennychamber.com/events/details/make-the-most-of-tbex-visibility-strategies-for-donegal-businesses-63
END:VEVENT

END:VCALENDAR
