BEGIN:VCALENDAR
VERSION:2.0
PRODID:-//ChamberMaster//Event Calendar 2.0//EN
METHOD:PUBLISH
X-PUBLISHED-TTL:P3D
REFRESH-INTERVAL:P3D
CALSCALE:GREGORIAN
BEGIN:VEVENT
DTSTART:20230914T080000Z
DTEND:20230914T100000Z
X-MICROSOFT-CDO-ALLDAYEVENT:FALSE
SUMMARY:LinkedIn For Business Growth Strategy with Grofuse
DESCRIPTION:This workshop is included in membership (free) for Letterkenny Chamber Members and free for CoLab Clients. \n\n\n\n 10 for non-members\n\n\n\nWant to learn how to effectively market yourself/your organisation using LinkedIn? \n\n\n\nIn this workshop with Denis Finnegan from Grofuse\, you will learn how to use LinkedIn for business - to build credibility\, create a meaningful professional network\, and how to use LinkedIn as a sales tool within your growth strategy whether you're trading/networking locally\, nationally\, or globally.  \n\n\n\nYou'll be taken through a step-by-step guide on setting-up a LinkedIn company page that attracts the right leads and awareness for your business.   \n\n\n\nWho is this for?\n\n\n\nOwners/managers or marketing/sales/commercial/human resource professionals   leaders and executives within a business who would like to use LinkedIn as a strategic sales and communications tool on behalf of themselves/their organisation. \n\n \n\nThe LinkedIn Workshop with Grofuse will cover:\n\n	Using LinkedIn as part of your sales strategy\n	Tools to help you source leads/customers  \n	Setting up an effective LinkedIn Company page\n	Recommendations for making use of your Company page\n	Case studies of successful LinkedIn pages/posts\n	Q & A session \n\n \n\nLinkedIn is the world's premier online business network\, this dedicated session will show us how to make best use of our professional individual and company profiles and take a strategic approach to the platform.\n\n\n\nBook here or email marie@letterkennychamber.com to secure your place.\n\n \nSpeaker/Trainer - Denis Finnegan has a wealth of experience in setting up and managing Search Engine Optimisation (SEO)\, and Google Ads Management.\n\nHe has led workshops for clients of the Northern Ireland Chamber\, Derry Chamber\, Local Enterprise Office\, Letterkenny Chamber\, WestBIC\, and JIC to help grow businesses.
X-ALT-DESC;FMTTYPE=text/html:<em><span style="background-image: initial\; background-position: initial\; background-size: initial\; background-repeat: initial\; background-attachment: initial\; background-origin: initial\; background-clip: initial\;"><span style="font-family: arial\, sans-serif\;"><span style="font-size: 14pt\;">This workshop is included in membership (free) for Letterkenny Chamber Members and free for CoLab Clients.&nbsp\;</span></span></span></em><br />\n<br />\n<span style="background:white\;"><span style="color:#333333\;"><span style="font-family:arial\,sans-serif\;"><span style="font-size:14.0pt\;"><em>&euro\;10 for non-members</em></span></span></span></span><br />\n<br />\n<span style="background:white\;"><span style="color:#333333\;"><span style="font-family:arial\,sans-serif\;"><span style="font-size:14.0pt\;"><strong>Want to learn how to effectively market yourself/your organisation using LinkedIn?&nbsp\;</strong></span></span></span></span><br />\n<br />\n<span style="background:white\;"><span style="color:#333333\;"><span style="font-family:arial\,sans-serif\;"><span style="font-size:14.0pt\;">In this workshop with Denis Finnegan from Grofuse\, you will learn how to use LinkedIn for business - to build credibility\, create a meaningful professional network\, and how to use LinkedIn as a sales tool within your growth strategy whether you&rsquo\;re trading/networking locally\, nationally\, or globally. &nbsp\;</span></span></span></span><br />\n<br />\n<span style="background:white\;"><span style="color:#333333\;"><span style="font-family:arial\,sans-serif\;"><span style="font-size:14.0pt\;">You&rsquo\;ll be taken through a step-by-step guide on setting-up a LinkedIn company page that attracts the right leads and awareness for your business. &nbsp\;&nbsp\;</span></span></span></span><br />\n<br />\n<span style="background:white\;"><span style="color:#333333\;"><span style="font-family:arial\,sans-serif\;"><span style="font-size:14.0pt\;"><strong>Who is this for?</strong></span></span></span></span><br />\n<br />\n<span style="background:white\;"><span style="color:#333333\;"><span style="font-family:arial\,sans-serif\;"><span style="font-size:14.0pt\;">Owners/managers or marketing/sales/commercial/human resource professionals &ndash\; leaders and executives within a business who would like to use<strong> LinkedIn as a strategic sales and communications tool </strong>on behalf of themselves/their organisation. </span></span></span></span><br />\n<strong>&nbsp\;</strong><br />\n<span style="background:white\;"><span style="color:#333333\;"><span style="font-family:arial\,sans-serif\;"><span style="font-size:14.0pt\;"><strong>The LinkedIn Workshop with Grofuse will cover:</strong></span></span></span></span>\n<ul>\n	<li><span style="background:white\;"><span style="color:#333333\;"><span style="font-family:arial\,sans-serif\;"><span style="font-size:14.0pt\;">Using LinkedIn as part of your sales strategy</span></span></span></span></li>\n	<li><span style="background:white\;"><span style="color:#333333\;"><span style="font-family:arial\,sans-serif\;"><span style="font-size:14.0pt\;">Tools to help you source leads/customers &nbsp\;</span></span></span></span></li>\n	<li><span style="background:white\;"><span style="color:#333333\;"><span style="font-family:arial\,sans-serif\;"><span style="font-size:14.0pt\;">Setting up an effective LinkedIn Company page</span></span></span></span></li>\n	<li><span style="background:white\;"><span style="color:#333333\;"><span style="font-family:arial\,sans-serif\;"><span style="font-size:14.0pt\;">Recommendations for making use of your Company page</span></span></span></span></li>\n	<li><span style="background:white\;"><span style="color:#333333\;"><span style="font-family:arial\,sans-serif\;"><span style="font-size:14.0pt\;">Case studies of successful LinkedIn pages/posts</span></span></span></span></li>\n	<li><span style="background:white\;"><span style="color:#333333\;"><span style="font-family:arial\,sans-serif\;"><span style="font-size:14.0pt\;">Q &amp\; A session </span></span></span></span></li>\n</ul>\n&nbsp\;<br />\n<span style="background:white\;"><span style="color:#333333\;"><span style="font-family:arial\,sans-serif\;"><span style="font-size:14.0pt\;">LinkedIn is the world&rsquo\;s premier online business network\, this dedicated session will show us how to make best use of our professional individual and company profiles and take a strategic approach to the platform.</span></span></span></span><br />\n<br />\n<span style="background:white\;"><span style="color:#333333\;"><span style="font-family:arial\,sans-serif\;"><span style="font-size:14.0pt\;">Book here or email <a href="mailto:marie@letterkennychamber.com">marie@letterkennychamber.com</a> to secure your place.</span></span></span></span><br />\n&nbsp\;\n<p style="box-sizing: inherit\; margin: 0px 0px 30px\; padding: 0px\; font-size: 16px\; line-height: 1.6\; text-rendering: optimizelegibility\; font-family: Mulish\, sans-serif\; color: rgb(0\, 0\, 0)\; background-color: rgb(254\, 254\, 254)\;">Speaker/Trainer - Denis Finnegan&nbsp\;has a wealth of experience in setting up and managing Search Engine Optimisation (SEO)\, and Google Ads Management.</p>\n\n<p style="box-sizing: inherit\; margin: 0px 0px 30px\; padding: 0px\; font-size: 16px\; line-height: 1.6\; text-rendering: optimizelegibility\; font-family: Mulish\, sans-serif\; color: rgb(0\, 0\, 0)\; background-color: rgb(254\, 254\, 254)\;">He has led workshops for clients of the Northern Ireland Chamber\, Derry Chamber\, Local Enterprise Office\, Letterkenny Chamber\, WestBIC\, and JIC to help grow businesses.</p>\n<span style="background:white\;"><span style="color:#333333\;"><span style="font-family:arial\,sans-serif\;"><span style="font-size:14.0pt\;"> </span></span></span></span>
LOCATION:CoLab\, Port Road\, Letterkenny (ATU Campus)
UID:e.3653.22
SEQUENCE:3
DTSTAMP:20260420T152732Z
URL:https://business.letterkennychamber.com/events/details/linkedin-for-business-growth-strategy-with-grofuse-22
END:VEVENT

END:VCALENDAR
