BEGIN:VCALENDAR
VERSION:2.0
PRODID:-//ChamberMaster//Event Calendar 2.0//EN
METHOD:PUBLISH
X-PUBLISHED-TTL:P3D
REFRESH-INTERVAL:P3D
CALSCALE:GREGORIAN
BEGIN:VEVENT
DTSTART:20250918T173000Z
DTEND:20250918T193000Z
X-MICROSOFT-CDO-ALLDAYEVENT:FALSE
SUMMARY:Letterkenny Chamber's 60th
DESCRIPTION:An evening for members to celebrate the Chamber's 60th! Enjoy the beautiful setting of Castlegrove Country House Hotel and mark Letterkenny Chamber's 60th year with other members and Past Presidents. Sponsored by PTSB  the evening is an opportunity to make connections\, catch up with members and see how the Chamber has grown and it's wonderful membership! There will be drinks and refreshments on arrival. \n\n\n\nThis event is for Chamber Members only and is complimentary.
X-ALT-DESC;FMTTYPE=text/html:<br />\nAn evening for members to celebrate the Chamber&#39\;s 60th! Enjoy the beautiful setting of Castlegrove Country House Hotel and mark Letterkenny Chamber&#39\;s 60th year with other members and Past Presidents. Sponsored by PTSB&nbsp\; the evening is an opportunity to make connections\, catch up with members and see how the Chamber has grown and it&#39\;s wonderful membership! There will be drinks and refreshments on arrival.&nbsp\;<br />\n<br />\nThis event is for Chamber Members only and is complimentary.&nbsp\;
LOCATION:Castlegrove House Hotel\, Ramelton Rd\, Ballymaleel\, Letterkenny\, Co. Donegal\, F92 A462
UID:e.3653.65
SEQUENCE:3
DTSTAMP:20260419T194015Z
URL:https://business.letterkennychamber.com/events/details/letterkenny-chamber-s-60th-65
END:VEVENT

END:VCALENDAR
