BEGIN:VCALENDAR
VERSION:2.0
PRODID:-//ChamberMaster//Event Calendar 2.0//EN
METHOD:PUBLISH
X-PUBLISHED-TTL:P3D
REFRESH-INTERVAL:P3D
CALSCALE:GREGORIAN
BEGIN:VEVENT
DTSTART:20250606T110000Z
DTEND:20250606T133000Z
X-MICROSOFT-CDO-ALLDAYEVENT:FALSE
SUMMARY:Letterkenny Chamber President's Lunch 2025
DESCRIPTION:Join Us for the President's Lunch   Sponsored by Bank of Ireland\n\nYou're warmly invited to the Letterkenny Chamber President's Lunch on Friday\, 6th June   a highlight of our Chamber calendar\, proudly sponsored by Bank of Ireland.\n\nIt's a wonderful opportunity to connect with fellow members\, celebrate the successes of the year so far\, and look ahead to what's next. This year's theme\, "Shaping the Future of Business\," highlights opportunity\, leadership and ambition across the North West.\n\n \n\n  Keynote Address:\n\nMinister Dara Calleary\, TD\, Minister for Social Protection and Rural and Community Development\n\n \n\n   Panel Discussion:\n\nHosted by MC Garrett Harte\, our panel will feature business leaders shaping the future of our region:\n\n\n	Barry Gallagher\, Regional Manager\, Bank of Ireland   responsible for 15 branches and over 100 staff across Donegal and the North West\, Barry brings 25 years of banking insight and regional development experience.\n	Darragh McCarthy\, CEO & Founder\, FinTrU   leading a global financial services firm employing over 1\,500 people across 6 countries\, Darragh is passionate about innovation and high-quality employment.\n	Maria Sweeney\, Founder\, Safetech Consulting & Training   a national and international leader in accredited training with over 28\,000 participants trained in 2024 alone. Maria brings a powerful voice on skills\, compliance\, and business growth.\n\n\nJoin Jimmy Stafford\, Letterkenny Chamber of Commerce President as he champions Donegal and the North West and advocates for the region.
X-ALT-DESC;FMTTYPE=text/html:<p data-end="149" data-start="81"><span style="font-size:14px\;"><strong data-end="149" data-start="81">Join Us for the President&rsquo\;s Lunch &ndash\; Sponsored by Bank of Ireland</strong></span></p>\n\n<p data-end="326" data-start="151"><span style="font-size:14px\;">You&rsquo\;re warmly invited to the <strong data-end="221" data-start="180">Letterkenny Chamber President&rsquo\;s Lunch</strong> on <strong data-end="245" data-start="225">Friday\, 6th June</strong> &mdash\; a highlight of our Chamber calendar\, proudly sponsored by <strong data-end="325" data-start="306">Bank of Ireland</strong>.<br />\nIt&rsquo\;s a wonderful opportunity to connect with fellow members\, celebrate the successes of the year so far\, and look ahead to what&rsquo\;s next. This year&rsquo\;s theme\, <strong>&ldquo\;Shaping the Future of Business\,&rdquo\;</strong> highlights opportunity\, leadership and ambition across the North West.<br />\n&nbsp\;<br />\n<span style="font-family:segoe ui emoji\,sans-serif\;">&#127908\;</span> <strong>Keynote Address:</strong><br />\nMinister <strong>Dara Calleary\, TD</strong>\, Minister for Social Protection and Rural and Community Development<br />\n&nbsp\;<br />\n<span style="font-family:segoe ui emoji\,sans-serif\;">&#127897\;&#65039\;</span> <strong>Panel Discussion:</strong><br />\nHosted by <strong>MC Garrett Harte</strong>\, our panel will feature business leaders shaping the future of our region:</span></p>\n\n<ul>\n	<li><span style="font-size:14px\;"><strong>Barry Gallagher</strong>\, Regional Manager\, Bank of Ireland &ndash\; responsible for 15 branches and over 100 staff across Donegal and the North West\, Barry brings 25 years of banking insight and regional development experience.</span></li>\n	<li><span style="font-size:14px\;"><strong>Darragh McCarthy</strong>\, CEO &amp\; Founder\, FinTrU &ndash\; leading a global financial services firm employing over 1\,500 people across 6 countries\, Darragh is passionate about innovation and high-quality employment.</span></li>\n	<li><span style="font-size:14px\;"><strong>Maria Sweeney</strong>\, Founder\, Safetech Consulting &amp\; Training &ndash\; a national and international leader in accredited training with over 28\,000 participants trained in 2024 alone. Maria brings a powerful voice on skills\, compliance\, and business growth.</span></li>\n</ul>\n\n<p data-end="698" data-start="604"><span style="font-size:14px\;">Join <strong>Jimmy Stafford\, Letterkenny Chamber of Commerce President</strong> as he champions Donegal and the North West and advocates for the region.</span></p>\n
LOCATION:Radisson Blu\, Letterkenny\, Co. Donegal
UID:e.3653.62
SEQUENCE:3
DTSTAMP:20260420T010103Z
URL:https://business.letterkennychamber.com/events/details/letterkenny-chamber-president-s-lunch-2025-62
END:VEVENT

END:VCALENDAR
