BEGIN:VCALENDAR
VERSION:2.0
PRODID:-//ChamberMaster//Event Calendar 2.0//EN
METHOD:PUBLISH
X-PUBLISHED-TTL:P3D
REFRESH-INTERVAL:P3D
CALSCALE:GREGORIAN
BEGIN:VEVENT
DTSTART:20240524T110000Z
DTEND:20240524T133000Z
X-MICROSOFT-CDO-ALLDAYEVENT:FALSE
SUMMARY:Letterkenny Chamber President's Lunch 2024
DESCRIPTION:All welcome. Join us for our Annual Letterkenny Chamber President's Lunch\, Radisson Blu - Letterkenny\, 12pm Friday 24th of May. Kindly Sponsored by AIB. \n\n\n\n----------------------------------------------------------------------------------------------------------------------------\n\nOur Keynote Speaker for the Letterkenny Chamber President's Lunch 2024 - is Cathal Friel. \n\n\n\nThis years theme is Leadership\, we'll hear from key leaders from our region who are making inspiring impact locally\, nationally\, and globally.\n\n\n\nGarrett Harte\, of Harte Media will be our Master of Ceremonies for the afternoon. We'll hear from our Letterkenny Chamber President\, Claire Mc Donough - an industry leadership panel discussion will take place\, as well as our Keynote conversation with estemeed entrepreneur\, Cathal Friel.\n\n\n\nCathal Friel is a seasoned serial entrepreneur with a long and successful history and to date has listed five companies on the London Stock Exchange. Cathal is Managing Director of Raglan Capital and serves as Chairman and co-founder of Poolbeg Pharma plc. Poolbeg was established as a spin-off from hVIVO plc in 2021\, where Cathal is also co-founder and Chairman. Cathal also co-founded and sits on the Board of Director of European Green Transition plc\, which listed on the London Stock Exchange in April 2024. Cathal co-founded Amryt Pharma plc which listed on the London Stock Exchange in 2016 and dual listed on Nasdaq in 2020 and was later sold to Chiesi Farmaceutici for $1.48bn in April 2023. Prior to that\, he was co-founder and Chairman of Fastnet Oil & Gas plc\, which listed on the London Stock Exchange in 2012. \n\n \n\nCathal began his working career a little earlier than most by having to step in to help run the family business in 1981 at the relatively young age of 16 due to a family illness. He went on to complete his education by taking night classes and received an MBA from the University of Ulster in 1990. Cathal then spent the following five years lecturing on a part-time basis on International Marketing and Business Planning at the University of Ulster whilst in tandem running his own technology services business. In 2001\, Cathal was part of the team that successfully established Merrion Stockbrokers in Dublin. Following Merrion's trade sale in 2006\, he founded Raglan Capital which is renowned for building in-house companies that are listed on the public stock markets. Cathal was a finalist in the international category of the EY Entrepreneur of the Year 2020.\n\n\n\nTo book tickets\, or a table - please use the link above or contact Letterkenny Chamber directly to secure. (email: info@letterkennychamber.com)\n\n\n\nTickets for Letterkenny Chamber Members  55 per person\n\nNon-Members  65 per person
X-ALT-DESC;FMTTYPE=text/html:<br />\nAll welcome. Join us for our Annual Letterkenny Chamber President&#39\;s Lunch\, Radisson Blu - Letterkenny\, 12pm Friday 24th of May. Kindly <a href="https://aib.ie/">Sponsored by AIB</a>.&nbsp\;<br />\n<br />\n----------------------------------------------------------------------------------------------------------------------------<br />\n<strong>Our Keynote Speaker for the Letterkenny Chamber President&#39\;s Lunch 2024 - is Cathal Friel.&nbsp\;</strong><br />\n<br />\nThis years theme is Leadership\, we&#39\;ll hear from key leaders from our region who are making inspiring impact locally\, nationally\, and globally.<br />\n<br />\nGarrett Harte\, of Harte Media will be our Master of Ceremonies for the afternoon. We&#39\;ll hear from our Letterkenny Chamber President\, Claire Mc Donough - an industry leadership panel discussion will take place\, as well as our Keynote conversation with estemeed entrepreneur\, Cathal Friel.<br />\n<br />\n<strong>Cathal Friel </strong>is a seasoned serial entrepreneur with a long and successful history and to date has listed five companies on the London Stock Exchange. Cathal is Managing Director of Raglan Capital and serves as Chairman and co-founder of Poolbeg Pharma plc. Poolbeg was established as a spin-off from hVIVO plc in 2021\, where Cathal is also co-founder and Chairman. Cathal also co-founded and sits on the Board of Director of European Green Transition plc\, which listed on the London Stock Exchange in April 2024. Cathal co-founded Amryt Pharma plc which listed on the London Stock Exchange in 2016 and dual listed on Nasdaq in 2020 and was later sold to Chiesi Farmaceutici for $1.48bn in April 2023. Prior to that\, he was co-founder and Chairman of Fastnet Oil &amp\; Gas plc\, which listed on the London Stock Exchange in 2012.&nbsp\;<br />\n&nbsp\;<br />\nCathal began his working career a little earlier than most by having to step in to help run the family business in 1981 at the relatively young age of 16 due to a family illness. He went on to complete his education by taking night classes and received an MBA from the University of Ulster in 1990. Cathal then spent the following five years lecturing on a part-time basis on International Marketing and Business Planning at the University of Ulster whilst in tandem running his own technology services business. In 2001\, Cathal was part of the team that successfully established Merrion Stockbrokers in Dublin. Following Merrion&rsquo\;s trade sale in 2006\, he founded Raglan Capital which is renowned for building in-house companies that are listed on the public stock markets. Cathal was a finalist in the international category of the EY Entrepreneur of the Year 2020.<br />\n<br />\n<strong>To book tickets\, or a table - please use the link above or contact Letterkenny Chamber directly to secure. (email: info@letterkennychamber.com)<br />\n<br />\nTickets for Letterkenny Chamber Members &euro\;55 per person<br />\nNon-Members &euro\;65 per person&nbsp\;</strong>
LOCATION:Radisson Blu\, Letterkenny
UID:e.3653.42
SEQUENCE:3
DTSTAMP:20260420T020013Z
URL:https://business.letterkennychamber.com/events/details/letterkenny-chamber-president-s-lunch-2024-42
END:VEVENT

END:VCALENDAR
