BEGIN:VCALENDAR
VERSION:2.0
PRODID:-//ChamberMaster//Event Calendar 2.0//EN
METHOD:PUBLISH
X-PUBLISHED-TTL:P3D
REFRESH-INTERVAL:P3D
CALSCALE:GREGORIAN
BEGIN:VEVENT
DTSTART:20241128T110000Z
DTEND:20241128T123000Z
X-MICROSOFT-CDO-ALLDAYEVENT:FALSE
SUMMARY:Letterkenny Chamber & gteic @ Gaoth Dobhair Event
DESCRIPTION:You are invited to our business meet-up\,\n\n \n\nA chara\, tugtar cuireadh duit freastal ar  r gcruinni  gn \,\n\n \n\n	Date: Thurs\, 28th November\, 2024\n	D ta: D ardaoin 28  Samhain 2024\n	Time/Am: 11am\n	Venue/Ionad: Gteic @Gaoth Dobhair\n\n \n\nJoin us for this event to network and collaborate. This is a  morning to discuss the value of working together across Donegal.\n\nB  linn don imeacht seo le bheith ag l onr  agus ag comhoibri . Seo maidin ina mbeidh pl  a dh anamh ar an luach a bhaineann le bheith ag obair le ch ile ar fud Dh n na nGall.\n\n \n\nAn event created to further connect the business community in Letterkenny\, with the thriving business community in West Donegal.\n\n c id cruthaithe leis an pobal gn  i Leitir Ceanainn a nascadh a thuilleadh leis an bpobal gn  br omhar in Iarthar Dh n na nGall.\n\n \n\nHost/ sta: gteic @ Gaoth Dobhair \n\n \n\nAll welcome\, but RSVP required: https://business.letterkennychamber.com/events/details/letterkenney-chamber-gteic-gaoth-dobhair-event-51\n\n \n\nF ilte roimh ch ch\, ach RSVP ag teast il.\n\n \n\nGteic @Gaoth Dobhair\n\nP irc Ghn  Ghaoth Dobhair\, Derrybeg Co. Donegal\, F92 PT38
X-ALT-DESC;FMTTYPE=text/html:<br />\nYou are invited to our <strong>business meet-up\,</strong><br />\n&nbsp\;<br />\nA chara\, tugtar cuireadh duit freastal ar &aacute\;r <strong>gcruinni&uacute\; gn&oacute\;\,</strong><br />\n&nbsp\;\n<ul>\n	<li>Date: Thurs\, 28th November\, 2024</li>\n	<li>D&aacute\;ta: D&eacute\;ardaoin 28&uacute\; Samhain 2024</li>\n	<li>Time/Am: 11am</li>\n	<li>Venue/Ionad: Gteic @Gaoth Dobhair</li>\n</ul>\n&nbsp\;<br />\nJoin us for this event to network and collaborate. This is a &nbsp\;morning to discuss the value of working together across Donegal.<br />\nB&iacute\; linn don imeacht seo le bheith ag l&iacute\;onr&uacute\; agus ag comhoibri&uacute\;. Seo maidin ina mbeidh pl&eacute\; a dh&eacute\;anamh ar an luach a bhaineann le bheith ag obair le ch&eacute\;ile ar fud Dh&uacute\;n na nGall.<br />\n&nbsp\;<br />\nAn event created to further connect the business community in Letterkenny\, with the thriving business community in West Donegal.<br />\n&Oacute\;c&aacute\;id cruthaithe leis an pobal gn&oacute\; i Leitir Ceanainn a nascadh a thuilleadh leis an bpobal gn&oacute\; br&iacute\;omhar in Iarthar Dh&uacute\;n na nGall.<br />\n&nbsp\;<br />\nHost/&Oacute\;sta: <strong>gteic @ Gaoth Dobhair&nbsp\;</strong><br />\n&nbsp\;<br />\nAll welcome\, but RSVP required: <a href="https://business.letterkennychamber.com/events/details/letterkenney-chamber-gteic-gaoth-dobhair-event-51">https://business.letterkennychamber.com/events/details/letterkenney-chamber-gteic-gaoth-dobhair-event-51</a><br />\n&nbsp\;<br />\nF&aacute\;ilte roimh ch&aacute\;ch\, <strong>ach RSVP ag teast&aacute\;il.</strong><br />\n&nbsp\;<br />\nGteic @Gaoth Dobhair<br />\n<a href="https://www.google.com/maps/place/data=!4m2!3m1!1s0x485f79e7ee5dcd95:0xa19b867dd71fce47?sa=X&amp\;ved=1t:8290&amp\;ictx=111">P&aacute\;irc Ghn&oacute\; Ghaoth Dobhair\, Derrybeg Co. Donegal\, F92 PT38</a><br />\n<br />\n&nbsp\;<br />\n&nbsp\;
LOCATION:Gteic @ Gaoth Dobhair P irc Ghn Ghaoth Dobhair\, Derrybeg\, Co. Donegal\, F92 PT38
UID:e.3653.51
SEQUENCE:3
DTSTAMP:20260419T173145Z
URL:https://business.letterkennychamber.com/events/details/letterkenny-chamber-gteic-gaoth-dobhair-event-51
END:VEVENT

END:VCALENDAR
