BEGIN:VCALENDAR
VERSION:2.0
PRODID:-//ChamberMaster//Event Calendar 2.0//EN
METHOD:PUBLISH
X-PUBLISHED-TTL:P3D
REFRESH-INTERVAL:P3D
CALSCALE:GREGORIAN
BEGIN:VEVENT
DTSTART:20241115T190000Z
DTEND:20241115T235500Z
X-MICROSOFT-CDO-ALLDAYEVENT:FALSE
SUMMARY:Letterkenny Chamber Business Awards 2024
DESCRIPTION:Letterkenny Chamber Business Awards 2024
X-ALT-DESC;FMTTYPE=text/html:Letterkenny Chamber Business Awards 2024
LOCATION:The Silver Tassie Hotel\, Letterkenny
UID:e.3653.45
SEQUENCE:3
DTSTAMP:20260419T155530Z
URL:https://business.letterkennychamber.com/events/details/letterkenny-chamber-business-awards-2024-45
END:VEVENT

END:VCALENDAR
