BEGIN:VCALENDAR
VERSION:2.0
PRODID:-//ChamberMaster//Event Calendar 2.0//EN
METHOD:PUBLISH
X-PUBLISHED-TTL:P3D
REFRESH-INTERVAL:P3D
CALSCALE:GREGORIAN
BEGIN:VEVENT
DTSTART:20230517T140000Z
DTEND:20230517T153000Z
X-MICROSOFT-CDO-ALLDAYEVENT:FALSE
SUMMARY:Letterkenny Chamber Awards Launch
DESCRIPTION:Launch of the 2023 Letterkenny Chamber Business Awards.
X-ALT-DESC;FMTTYPE=text/html:Launch of the 2023 Letterkenny Chamber Business Awards.&nbsp\;
LOCATION:Castlegrove Country House Hotel\, Letterkenny\, Co.Donegal
UID:e.3653.17
SEQUENCE:3
DTSTAMP:20260421T004201Z
URL:https://business.letterkennychamber.com/events/details/letterkenny-chamber-awards-launch-17
END:VEVENT

END:VCALENDAR
