BEGIN:VCALENDAR
VERSION:2.0
PRODID:-//ChamberMaster//Event Calendar 2.0//EN
METHOD:PUBLISH
X-PUBLISHED-TTL:P3D
REFRESH-INTERVAL:P3D
CALSCALE:GREGORIAN
BEGIN:VEVENT
DTSTART:20230609T110000Z
DTEND:20230609T133000Z
X-MICROSOFT-CDO-ALLDAYEVENT:FALSE
SUMMARY:Letterkenny Chamber Annual President's Lunch
DESCRIPTION:Join us on Friday the 9th of June for our Annual President's Lunch with Keynote Speaker\, Mary Lou McDonald TD\n\nKeynote Speaker : Mary Lou McDonald TD\n\nChamber President Fionnuala Rabbitt will deliver a speech to the attendance\n\nFollowed by an expert panel of Donegal Business Leaders.  \n\n\n\nPlease note\, tickets are limited - please book here\, or contact us on info@letterkennychamber.com \n\n\n\nMeet the Panel\n\nDr Orla Flynn - ATU President\n\nS amus Hughes - Corporate Vice President International Affairs - ZEUS \n\nPadraig Monaghan - CEO - OPTUM\n\nModerated by Greg Hughes.
X-ALT-DESC;FMTTYPE=text/html:<div class="OutlineElement Ltr SCXW51585415 BCX0" style="margin: 0px\; padding: 0px\; user-select: text\; -webkit-user-drag: none\; -webkit-tap-highlight-color: transparent\; overflow: visible\; cursor: text\; clear: both\; position: relative\; direction: ltr\; color: rgb(0\, 0\, 0)\; font-family: &quot\;Segoe UI&quot\;\, &quot\;Segoe UI Web&quot\;\, Arial\, Verdana\, sans-serif\; font-size: 12px\;">\n<p class="Paragraph SCXW51585415 BCX0" paraeid="{b0003a86-2500-49ec-9a99-cf03a3e9e5dc}{162}" paraid="1094733523" style="margin: 0px\; padding: 0px\; user-select: text\; -webkit-user-drag: none\; -webkit-tap-highlight-color: transparent\; overflow-wrap: break-word\; white-space: pre-wrap\; vertical-align: baseline\; font-kerning: none\; color: windowtext\;"><span style="font-size:16px\;"><span style="font-family:arial\;">Join us on Friday the 9th of June for our Annual President&#39\;s Lunch with Keynote Speaker\, Mary Lou McDonald TD<br />\n<strong>Keynote Speaker : </strong>Mary Lou McDonald TD<br />\n<strong>Chamber President </strong>Fionnuala Rabbitt will deliver a speech to the attendance<br />\nFollowed by an expert panel of Donegal Business Leaders. &nbsp\;<br />\n<br />\nPlease note\, tickets are limited - please book here\, or contact us on info@letterkennychamber.com&nbsp\;<br />\n<br />\n<strong>Meet the Panel<br />\nDr Orla Flynn - ATU President<br />\nS&eacute\;amus Hughes - Corporate Vice President International Affairs - ZEUS </strong></span></span><br />\n<span style="font-size:16px\;"><span style="font-family:arial\;"><strong>Padraig Monaghan - CEO - OPTUM<br />\nModerated by Greg Hughes. </strong></span></span><br />\n<br />\n<br />\n&nbsp\;</p>\n</div>\n\n<div class="OutlineElement Ltr SCXW51585415 BCX0" style="margin: 0px\; padding: 0px\; user-select: text\; -webkit-user-drag: none\; -webkit-tap-highlight-color: transparent\; overflow: visible\; cursor: text\; clear: both\; position: relative\; direction: ltr\; color: rgb(0\, 0\, 0)\; font-family: &quot\;Segoe UI&quot\;\, &quot\;Segoe UI Web&quot\;\, Arial\, Verdana\, sans-serif\; font-size: 12px\;">\n<p class="Paragraph SCXW51585415 BCX0" paraeid="{d8041a6d-ca40-44ce-b07e-1604f1780e40}{57}" paraid="853587088" style="margin: 0px\; padding: 0px\; user-select: text\; -webkit-user-drag: none\; -webkit-tap-highlight-color: transparent\; overflow-wrap: break-word\; white-space: pre-wrap\; vertical-align: baseline\; font-kerning: none\; color: windowtext\;">&nbsp\;</p>\n</div>\n
LOCATION:Radisson Blu Hotel\, Letterkenny
UID:e.3653.18
SEQUENCE:3
DTSTAMP:20260420T205946Z
URL:https://business.letterkennychamber.com/events/details/letterkenny-chamber-annual-president-s-lunch-18
END:VEVENT

END:VCALENDAR
