BEGIN:VCALENDAR
VERSION:2.0
PRODID:-//ChamberMaster//Event Calendar 2.0//EN
METHOD:PUBLISH
X-PUBLISHED-TTL:P3D
REFRESH-INTERVAL:P3D
CALSCALE:GREGORIAN
BEGIN:VEVENT
DTSTART:20231012T080000Z
DTEND:20231012T103000Z
X-MICROSOFT-CDO-ALLDAYEVENT:FALSE
SUMMARY:Into the Northwest - Sustainability For Business\, Green Skills For Success
DESCRIPTION:Key speakers and an expert panel of business owners from the Northwest\, will share case studies\, expertise\, and funding/skills information on how to successfully integrate sustainability into your business. \n\n\n\nWho is this for? Owners\, managers and employees (HR\, CSR\, ESG) if you are responsible for driving sustainability led change within your organisation\, this event is not to be missed!\n\n\n\nThis event is kindly sponsored by Tech Northwest Skillnet.\n\n\n\nWhat this event will cover: \n\n	Implementing a sustainability plan for any business\n	Decarbonisation planning - practical steps to achieving net zero\n	Sustainable finance - savings\, growth and lean process improvement\n	Understand links between sustainability and investment/tendering \n	Green marketing and the benefits of communicating sustainable practices\n	The role of ESG metrics in a business \n	Availability and steps towards funding and skills subsidies/supports \n	Awards and accreditations\n\nAn insight and overview of the role sustainability can - and will -play in business growth and the practical steps towards sustainable practice\, based on experience and up to date information.\n\n\n\n\n\nOutline Agenda\n\n\n\n \n\n9am: Tea/coffee/networking   welcome to visit trade stands from renewables suppliers.\n\n9.20am sharp: Introductions from Letterkenny Chamber\n\n9.30am: Head of Enterprise - LEO Donegal\, Brenda Hegarty will discuss the sustainability focused training and financial supports available to SMEs\n\n9.45am: Industry Expert #1 Barry Harper\, MD @ Nvolve Group \n\n10.00am: Industry Expert #2 Donal Kearney\, Director of Sustainability Growth @ Pragmatica\n\n10.20am: Moderated panel discussion with three Northwest Business Owners/Leadership Teams - EnviroGrind\, TCS & DS Environmental\n\n\n\n- moderated by Annette Houston\, MD @ FM Services Group \n\n11:05: Q&A \n\n11.20: Closing note from sponsor\, Siobhan Grant - Network Manager\, Tech North West Skillnet\n\n\nTo book\, register on this page\, or email marie@letterkennychamber.com\n\n\n\nBooking essential for TCS security purposes\, if you haven't registered in advance you will not be permitted on site. \n\n\n\nLight refreshments provided on arrival\, please make us aware of any dietary requirements.
X-ALT-DESC;FMTTYPE=text/html:Key speakers and an expert panel of business owners from the Northwest\, will share case studies\, expertise\, and funding/skills information on how to successfully integrate sustainability into your business.&nbsp\;<br />\n<br />\n<strong>Who is this for? </strong>Owners\, managers and employees (HR\, CSR\, ESG) if you are responsible for driving sustainability led change within your organisation\, this event is not to be missed!<br />\n<br />\nThis event is kindly sponsored by <a href="https://www.skillnetireland.ie/networks/tech-north-west-skillnet/">Tech Northwest Skillnet.</a><br />\n<br />\n<strong>What this event will cover:&nbsp\;</strong>\n<ul>\n	<li>Implementing a sustainability plan for any business</li>\n	<li>Decarbonisation planning - practical steps to achieving net zero</li>\n	<li>Sustainable finance - savings\, growth and&nbsp\;lean process improvement</li>\n	<li>Understand links between sustainability and investment/tendering&nbsp\;</li>\n	<li>Green marketing and the benefits of communicating sustainable practices</li>\n	<li>The role of ESG metrics in a business&nbsp\;</li>\n	<li>Availability and steps towards funding and skills subsidies/supports&nbsp\;</li>\n	<li>Awards and accreditations</li>\n</ul>\nAn insight and overview of the role sustainability can - and will -play in business growth and the practical steps towards sustainable practice\, based on experience and up to date information.<br />\n<br />\n<br />\n<b><span style="font-size:11.0pt">Outline Agenda</span></b>\n\n<p class="xxmsonormal"><o:p></o:p></p>\n\n<p class="xxmsonormal"><b><span style="font-size:11.0pt">&nbsp\;</span></b><o:p></o:p></p>\n\n<p class="xxmsonormal"><b><span style="font-size:11.0pt">9am: </span></b><span style="font-size:11.0pt">Tea/coffee/networking &ndash\; welcome to visit trade stands from renewables suppliers.</span><o:p></o:p></p>\n\n<p class="xxmsonormal"><b><span style="font-size:11.0pt">9.20am sharp: </span></b><span style="font-size:11.0pt">Introductions from <strong>Letterkenny Chamber</strong></span><o:p></o:p></p>\n\n<p class="xxmsonormal"><b><span style="font-size:11.0pt">9.30am: Head of Enterprise - LEO Donegal\, Brenda Hegarty</span></b><span style="font-size:11.0pt"> will discuss the sustainability focused training and financial supports available to SMEs</span><o:p></o:p></p>\n\n<p class="xxmsonormal"><b><span style="font-size:11.0pt">9.45am: Industry Expert #1 Barry Harper\, MD @ Nvolve Group&nbsp\;</span></b><o:p></o:p></p>\n\n<p class="xxmsonormal"><b><span style="font-size:11.0pt">10.00am: Industry Expert #2 Donal Kearney\, Director of Sustainability Growth @ Pragmatica</span></b><o:p></o:p></p>\n\n<p class="xxmsonormal"><b><span style="font-size:11.0pt">10.20am</span></b><span style="font-size:11.0pt">: Moderated panel discussion with three Northwest Business Owners/Leadership Teams&nbsp\;-&nbsp\;<b>EnviroGrind\, TCS &amp\; DS Environmental<br />\n<br />\n-&nbsp\;</b>moderated by <b>Annette Houston\, MD @ FM Services Group</b> </span><o:p></o:p></p>\n\n<p class="xxmsonormal"><b><span style="font-size:11.0pt">11:05:</span></b><span style="font-size:11.0pt"> Q&amp\;A </span><o:p></o:p></p>\n\n<p class="xxmsonormal"><b><span style="font-size:11.0pt">11.20: </span></b><span style="font-size:11.0pt">Closing note from sponsor\, <b>Siobhan Grant - Network Manager\, Tech North West Skillnet</b></span></p>\n<br />\nTo book\, register on this page\, or email marie@letterkennychamber.com<br />\n<br />\nBooking essential for TCS security purposes\, if you haven&#39\;t registered in advance you will not be permitted on site.&nbsp\;<br />\n<br />\nLight refreshments provided on arrival\, please make us aware of any dietary requirements.&nbsp\;<br />\n<br />\n&nbsp\;
LOCATION:TCS Campus\, Letterkenny Global Delivery Centre Letterkenny Business & Technology Park\, Letterkenny Co.Donegal Eircode F92 W8CY
UID:e.3653.25
SEQUENCE:3
DTSTAMP:20260420T135544Z
URL:https://business.letterkennychamber.com/events/details/into-the-northwest-sustainability-for-business-green-skills-for-success-25
END:VEVENT

END:VCALENDAR
