BEGIN:VCALENDAR
VERSION:2.0
PRODID:-//ChamberMaster//Event Calendar 2.0//EN
METHOD:PUBLISH
X-PUBLISHED-TTL:P3D
REFRESH-INTERVAL:P3D
CALSCALE:GREGORIAN
BEGIN:VEVENT
DTSTART:20230516T073000Z
DTEND:20230516T090000Z
X-MICROSOFT-CDO-ALLDAYEVENT:FALSE
SUMMARY:Into the North West - The Council Edit
DESCRIPTION:Into the North West - The Council Edit\n\nProviding an opportunity to meet and talk directly with Donegal County Council Executive\n\n\n\nSpeakers: \n\n\n\n\n\n\n\n\n\n	John McLaughlin\, Chief Executive Donegal County Council\n	Liam Ward\, Director of Services\, Planning & Community Development\n\nThe Chief Executive will make a presentation covering some of the following:\n\n\n	Ambitious plans for growth in the County and how this will impact over the next 5 to 20 years\n	Ongoing strategic alliance with Derry City & Strabane District Council \n	Donegal as an investment opportunity\n\n\nLiam Ward\, Director of Services will join John to drill down on the Letterkenny specific issues.  \n\nFor rate payers\, this is an important opportunity\, not to be missed. \n\n\n\nThis is open to Chamber Members only.
X-ALT-DESC;FMTTYPE=text/html:<div class="g-group l-lg-mar-bot-6 l-md-mar-bot-4 ">\n<div class="g-cell g-cell-10-12 g-cell-md-1-1">\n<div class="has-user-generated-content">\n<div class="text-body-medium" data-automation="listing-event-description"><strong>Into the North West - The Council Edit<br />\nProviding&nbsp\;an&nbsp\;opportunity to meet and talk directly with&nbsp\;Donegal County Council Executive<br />\n<br />\nSpeakers:&nbsp\;</strong></div>\n</div>\n</div>\n</div>\n\n<div class="g-group l-mar-bot-6 l-sm-mar-bot-4">\n<div class="structured-content g-cell g-cell-10-12 g-cell-md-1-1">\n<div class="has-user-generated-content" data-automation="about-this-event-sc">\n<div class="structured-content-rich-text structured-content__module l-align-left l-mar-vert-6 l-sm-mar-vert-4 text-body-medium">\n<ul>\n	<li>John McLaughlin\, Chief Executive Donegal County Council</li>\n	<li>Liam Ward\, Director of Services\, Planning &amp\; Community Development</li>\n</ul>\nThe Chief Executive will make a presentation covering some of the following:\n\n<ul>\n	<li>Ambitious plans for growth in the County and how this will impact over the next 5 to 20 years</li>\n	<li>Ongoing strategic alliance with Derry City &amp\; Strabane District Council&nbsp\;</li>\n	<li>Donegal as an investment opportunity</li>\n</ul>\n\n<p>Liam Ward\, Director of Services&nbsp\;will join John to drill down on the Letterkenny specific issues.&nbsp\;&nbsp\;</p>\n\n<p>For rate payers\, this is an important opportunity\, not to be missed.&nbsp\;<br />\n<br />\nThis is open to Chamber Members only.&nbsp\;<br />\n&nbsp\;</p>\n</div>\n</div>\n</div>\n</div>\n
LOCATION:CoLab\, ATU Donegal Letterkenny\, Port Road\, Letterkenny
UID:e.3653.12
SEQUENCE:3
DTSTAMP:20260421T004423Z
URL:https://business.letterkennychamber.com/events/details/into-the-north-west-the-council-edit-12
END:VEVENT

END:VCALENDAR
