BEGIN:VCALENDAR
VERSION:2.0
PRODID:-//ChamberMaster//Event Calendar 2.0//EN
METHOD:PUBLISH
X-PUBLISHED-TTL:P3D
REFRESH-INTERVAL:P3D
CALSCALE:GREGORIAN
BEGIN:VEVENT
DTSTART:20230928T170000Z
DTEND:20230928T183000Z
X-MICROSOFT-CDO-ALLDAYEVENT:FALSE
SUMMARY:Into The North West - Entrepreneurial Edit with Brody Sweeney
DESCRIPTION:Thurs 28th of Sept 2023 (All welcome) @ 6pm - 7.30pm \n\nComplementary for Chamber Members\, included in membership \n\n 10 for non-members. \n\n\n\nAn opportunity to hear at first hand an Entrepreneur's journey.  Brody Sweeney\, Founder of Camile Thai will talk about his current business and also of re-invention. How he overcame major challenges and started again. \n\n\n\nRefreshments provided. \n\n\n\n\n\nBrody is founder and Chief Executive of Camile Thai Kitchen   the UK and Ireland's largest Thai inspired healthy restaurant delivery business. The business founded in 2010\, employs over 1\,000 people through directly controlled businesses and franchised restaurants. Camile operates all over Ireland and London. \n\n \n\nBrody has experienced the highs and lows of creating a global brand as he was founder\, CEO and Chairman of O'Brien's Irish Sandwich Bars\, a global business with sales and operations in 16 countries\, employing 3\,000+ in over 320 stores and sales of  140 million. He successfully built an international brand selling products with the concept of "Irishness" to various cultures in Europe and around the world. The business went into examinership in 2009\, when Brody lost control of it   but O'Briens has survived and continues to thrive. \n\n \n\nHe was previously a founder of the business charity Connect Ethiopia\, a board member of Bord Bia\, and Fluuter / Paddy Power bookmakers\, and is immediate past chairman of the award winning Little Museum of Dublin. \n\n \n\nHe is also author of Making Bread a best-selling business book\, and Small to Tall.
X-ALT-DESC;FMTTYPE=text/html:Thurs 28th of Sept 2023 (All welcome) @ 6pm - 7.30pm&nbsp\;<br />\nComplementary for Chamber Members\, included in membership&nbsp\;<br />\n&euro\;10 for non-members.&nbsp\;<br />\n<br />\nAn opportunity to hear at first hand an Entrepreneur&#39\;s journey.&nbsp\; Brody Sweeney\, Founder of Camile Thai will talk about his current business and also of re-invention. How he overcame major challenges and started again.&nbsp\;<br />\n<br />\nRefreshments provided.&nbsp\;<br />\n<br />\n<br />\n<span style="color: rgba(0\, 0\, 0\, 0.9)\; font-family: -apple-system\, system-ui\, BlinkMacSystemFont\, &quot\;Segoe UI&quot\;\, Roboto\, &quot\;Helvetica Neue&quot\;\, &quot\;Fira Sans&quot\;\, Ubuntu\, Oxygen\, &quot\;Oxygen Sans&quot\;\, Cantarell\, &quot\;Droid Sans&quot\;\, &quot\;Apple Color Emoji&quot\;\, &quot\;Segoe UI Emoji&quot\;\, &quot\;Segoe UI Emoji&quot\;\, &quot\;Segoe UI Symbol&quot\;\, &quot\;Lucida Grande&quot\;\, Helvetica\, Arial\, sans-serif\; font-size: 14px\;">Brody is founder and Chief Executive of Camile Thai Kitchen &ndash\; the UK and Ireland&rsquo\;s largest Thai inspired healthy restaurant delivery business. The business founded in 2010\, employs over 1\,000 people through directly controlled businesses and franchised restaurants. Camile operates all over Ireland and London.&nbsp\;</span><br style="box-sizing: inherit\; color: rgba(0\, 0\, 0\, 0.9)\; font-family: -apple-system\, system-ui\, BlinkMacSystemFont\, &quot\;Segoe UI&quot\;\, Roboto\, &quot\;Helvetica Neue&quot\;\, &quot\;Fira Sans&quot\;\, Ubuntu\, Oxygen\, &quot\;Oxygen Sans&quot\;\, Cantarell\, &quot\;Droid Sans&quot\;\, &quot\;Apple Color Emoji&quot\;\, &quot\;Segoe UI Emoji&quot\;\, &quot\;Segoe UI Emoji&quot\;\, &quot\;Segoe UI Symbol&quot\;\, &quot\;Lucida Grande&quot\;\, Helvetica\, Arial\, sans-serif\; font-size: 14px\; line-height: inherit !important\;" />\n<span style="color: rgba(0\, 0\, 0\, 0.9)\; font-family: -apple-system\, system-ui\, BlinkMacSystemFont\, &quot\;Segoe UI&quot\;\, Roboto\, &quot\;Helvetica Neue&quot\;\, &quot\;Fira Sans&quot\;\, Ubuntu\, Oxygen\, &quot\;Oxygen Sans&quot\;\, Cantarell\, &quot\;Droid Sans&quot\;\, &quot\;Apple Color Emoji&quot\;\, &quot\;Segoe UI Emoji&quot\;\, &quot\;Segoe UI Emoji&quot\;\, &quot\;Segoe UI Symbol&quot\;\, &quot\;Lucida Grande&quot\;\, Helvetica\, Arial\, sans-serif\; font-size: 14px\;">&nbsp\;</span><br style="box-sizing: inherit\; color: rgba(0\, 0\, 0\, 0.9)\; font-family: -apple-system\, system-ui\, BlinkMacSystemFont\, &quot\;Segoe UI&quot\;\, Roboto\, &quot\;Helvetica Neue&quot\;\, &quot\;Fira Sans&quot\;\, Ubuntu\, Oxygen\, &quot\;Oxygen Sans&quot\;\, Cantarell\, &quot\;Droid Sans&quot\;\, &quot\;Apple Color Emoji&quot\;\, &quot\;Segoe UI Emoji&quot\;\, &quot\;Segoe UI Emoji&quot\;\, &quot\;Segoe UI Symbol&quot\;\, &quot\;Lucida Grande&quot\;\, Helvetica\, Arial\, sans-serif\; font-size: 14px\; line-height: inherit !important\;" />\n<span style="color: rgba(0\, 0\, 0\, 0.9)\; font-family: -apple-system\, system-ui\, BlinkMacSystemFont\, &quot\;Segoe UI&quot\;\, Roboto\, &quot\;Helvetica Neue&quot\;\, &quot\;Fira Sans&quot\;\, Ubuntu\, Oxygen\, &quot\;Oxygen Sans&quot\;\, Cantarell\, &quot\;Droid Sans&quot\;\, &quot\;Apple Color Emoji&quot\;\, &quot\;Segoe UI Emoji&quot\;\, &quot\;Segoe UI Emoji&quot\;\, &quot\;Segoe UI Symbol&quot\;\, &quot\;Lucida Grande&quot\;\, Helvetica\, Arial\, sans-serif\; font-size: 14px\;">Brody has experienced the highs and lows of creating a global brand as he was founder\, CEO and Chairman of O&rsquo\;Brien&rsquo\;s Irish Sandwich Bars\, a global business with sales and operations in 16 countries\, employing 3\,000+ in over 320 stores and sales of &euro\;140 million. He successfully built an international brand selling products with the concept of &ldquo\;Irishness&rdquo\; to various cultures in Europe and around the world. The business went into examinership in 2009\, when Brody lost control of it &ndash\; but O&rsquo\;Briens has survived and continues to thrive.&nbsp\;</span><br style="box-sizing: inherit\; color: rgba(0\, 0\, 0\, 0.9)\; font-family: -apple-system\, system-ui\, BlinkMacSystemFont\, &quot\;Segoe UI&quot\;\, Roboto\, &quot\;Helvetica Neue&quot\;\, &quot\;Fira Sans&quot\;\, Ubuntu\, Oxygen\, &quot\;Oxygen Sans&quot\;\, Cantarell\, &quot\;Droid Sans&quot\;\, &quot\;Apple Color Emoji&quot\;\, &quot\;Segoe UI Emoji&quot\;\, &quot\;Segoe UI Emoji&quot\;\, &quot\;Segoe UI Symbol&quot\;\, &quot\;Lucida Grande&quot\;\, Helvetica\, Arial\, sans-serif\; font-size: 14px\; line-height: inherit !important\;" />\n<span style="color: rgba(0\, 0\, 0\, 0.9)\; font-family: -apple-system\, system-ui\, BlinkMacSystemFont\, &quot\;Segoe UI&quot\;\, Roboto\, &quot\;Helvetica Neue&quot\;\, &quot\;Fira Sans&quot\;\, Ubuntu\, Oxygen\, &quot\;Oxygen Sans&quot\;\, Cantarell\, &quot\;Droid Sans&quot\;\, &quot\;Apple Color Emoji&quot\;\, &quot\;Segoe UI Emoji&quot\;\, &quot\;Segoe UI Emoji&quot\;\, &quot\;Segoe UI Symbol&quot\;\, &quot\;Lucida Grande&quot\;\, Helvetica\, Arial\, sans-serif\; font-size: 14px\;">&nbsp\;</span><br style="box-sizing: inherit\; color: rgba(0\, 0\, 0\, 0.9)\; font-family: -apple-system\, system-ui\, BlinkMacSystemFont\, &quot\;Segoe UI&quot\;\, Roboto\, &quot\;Helvetica Neue&quot\;\, &quot\;Fira Sans&quot\;\, Ubuntu\, Oxygen\, &quot\;Oxygen Sans&quot\;\, Cantarell\, &quot\;Droid Sans&quot\;\, &quot\;Apple Color Emoji&quot\;\, &quot\;Segoe UI Emoji&quot\;\, &quot\;Segoe UI Emoji&quot\;\, &quot\;Segoe UI Symbol&quot\;\, &quot\;Lucida Grande&quot\;\, Helvetica\, Arial\, sans-serif\; font-size: 14px\; line-height: inherit !important\;" />\n<span style="color: rgba(0\, 0\, 0\, 0.9)\; font-family: -apple-system\, system-ui\, BlinkMacSystemFont\, &quot\;Segoe UI&quot\;\, Roboto\, &quot\;Helvetica Neue&quot\;\, &quot\;Fira Sans&quot\;\, Ubuntu\, Oxygen\, &quot\;Oxygen Sans&quot\;\, Cantarell\, &quot\;Droid Sans&quot\;\, &quot\;Apple Color Emoji&quot\;\, &quot\;Segoe UI Emoji&quot\;\, &quot\;Segoe UI Emoji&quot\;\, &quot\;Segoe UI Symbol&quot\;\, &quot\;Lucida Grande&quot\;\, Helvetica\, Arial\, sans-serif\; font-size: 14px\;">He was previously a founder of the business charity Connect Ethiopia\, a board member of Bord Bia\, and Fluuter / Paddy Power bookmakers\, and is immediate past chairman of the award winning Little Museum of Dublin.&nbsp\;</span><br style="box-sizing: inherit\; color: rgba(0\, 0\, 0\, 0.9)\; font-family: -apple-system\, system-ui\, BlinkMacSystemFont\, &quot\;Segoe UI&quot\;\, Roboto\, &quot\;Helvetica Neue&quot\;\, &quot\;Fira Sans&quot\;\, Ubuntu\, Oxygen\, &quot\;Oxygen Sans&quot\;\, Cantarell\, &quot\;Droid Sans&quot\;\, &quot\;Apple Color Emoji&quot\;\, &quot\;Segoe UI Emoji&quot\;\, &quot\;Segoe UI Emoji&quot\;\, &quot\;Segoe UI Symbol&quot\;\, &quot\;Lucida Grande&quot\;\, Helvetica\, Arial\, sans-serif\; font-size: 14px\; line-height: inherit !important\;" />\n<span style="color: rgba(0\, 0\, 0\, 0.9)\; font-family: -apple-system\, system-ui\, BlinkMacSystemFont\, &quot\;Segoe UI&quot\;\, Roboto\, &quot\;Helvetica Neue&quot\;\, &quot\;Fira Sans&quot\;\, Ubuntu\, Oxygen\, &quot\;Oxygen Sans&quot\;\, Cantarell\, &quot\;Droid Sans&quot\;\, &quot\;Apple Color Emoji&quot\;\, &quot\;Segoe UI Emoji&quot\;\, &quot\;Segoe UI Emoji&quot\;\, &quot\;Segoe UI Symbol&quot\;\, &quot\;Lucida Grande&quot\;\, Helvetica\, Arial\, sans-serif\; font-size: 14px\;">&nbsp\;</span><br style="box-sizing: inherit\; color: rgba(0\, 0\, 0\, 0.9)\; font-family: -apple-system\, system-ui\, BlinkMacSystemFont\, &quot\;Segoe UI&quot\;\, Roboto\, &quot\;Helvetica Neue&quot\;\, &quot\;Fira Sans&quot\;\, Ubuntu\, Oxygen\, &quot\;Oxygen Sans&quot\;\, Cantarell\, &quot\;Droid Sans&quot\;\, &quot\;Apple Color Emoji&quot\;\, &quot\;Segoe UI Emoji&quot\;\, &quot\;Segoe UI Emoji&quot\;\, &quot\;Segoe UI Symbol&quot\;\, &quot\;Lucida Grande&quot\;\, Helvetica\, Arial\, sans-serif\; font-size: 14px\; line-height: inherit !important\;" />\n<span style="color: rgba(0\, 0\, 0\, 0.9)\; font-family: -apple-system\, system-ui\, BlinkMacSystemFont\, &quot\;Segoe UI&quot\;\, Roboto\, &quot\;Helvetica Neue&quot\;\, &quot\;Fira Sans&quot\;\, Ubuntu\, Oxygen\, &quot\;Oxygen Sans&quot\;\, Cantarell\, &quot\;Droid Sans&quot\;\, &quot\;Apple Color Emoji&quot\;\, &quot\;Segoe UI Emoji&quot\;\, &quot\;Segoe UI Emoji&quot\;\, &quot\;Segoe UI Symbol&quot\;\, &quot\;Lucida Grande&quot\;\, Helvetica\, Arial\, sans-serif\; font-size: 14px\;">He is also author of Making Bread a best-selling business book\, and Small to Tall.&nbsp\;&nbsp\;</span>
LOCATION:Safetech\, Riverside Retail Park\, Unit 1A\, Neil T Blaney Rd\, Letterkenny\, Co. Donegal
UID:e.3653.24
SEQUENCE:3
DTSTAMP:20260420T153631Z
URL:https://business.letterkennychamber.com/events/details/into-the-north-west-entrepreneurial-edit-with-brody-sweeney-24
END:VEVENT

END:VCALENDAR
