BEGIN:VCALENDAR
VERSION:2.0
PRODID:-//ChamberMaster//Event Calendar 2.0//EN
METHOD:PUBLISH
X-PUBLISHED-TTL:P3D
REFRESH-INTERVAL:P3D
CALSCALE:GREGORIAN
BEGIN:VEVENT
DTSTART:20241107T080000Z
DTEND:20241107T100000Z
X-MICROSOFT-CDO-ALLDAYEVENT:FALSE
SUMMARY:Identity & Authenticity in Business - Breakfast Seminar delivered by Dr Finbarr Bradley\, with Líonra Leitir Ceanainn and Letterkenny Chamber
DESCRIPTION:Join Letterkenny Chamber and L onra Leitir Ceanainn for this collaborative breakfast seminar with Dr Fionnbarra   Brolch in / Finbarr Bradley. \n\n\n\nPlease note:  This seminar will be primarily in English but there will also be an opportunity for comhr  agus comhluadar for anyone who wants to.\n\n\n\nJoin us to explore how incorporating Irish into your business can give your clients a deeper sense of who you are and what your values are. Supported by recent research Fionnbarra will discuss the many ways in which Irish is an asset to businesses.\n\n\n\nAll welcome to attend\, business owners\, staff and stakeholders. If you have incorporated Irish into your business already\, or are interested in doing so\, yourself and your team are more than welcome to attend what will be both an inspiring and informative event! \n\n\n\nYou'll have an opportunity to network with fellow businesses and speak to L onra Leitir Ceanainn about their supports and initiatives. \n\n\n\nIs m  do ghn  leis an Ghaeilge   business means more with Irish. \n\n\n\nThis event is a collaboration between L onra Leitir Ceanainn and Letterkenny Chamber. \n\n\n\nFinbarr Bradley is a fascinating and engaging speaker who teaches at the Smurfit Business School\, University College Dublin (UCD). He is a former professor of finance at Dublin City University (DCU)\, where he also set up the Irish-medium innovation centre\, Fiontar. Finbarr has a particular interest in identity and authenticity in business and how the Irish language can contribute to that in winning ways. He is a former chairman of Zamano\, a high-tech start-up founded by Fiontar students\, now publicly listed in Dublin and London. He was an economics professor at Maynooth University and a visiting professor at the University of Michigan\, Fordham University and Aalto University.\n\n\n\nFinbarr is co-author of the books Digging Deeper: How Purpose-Driven Enterprises Create Real Value (Greenleaf Publishing\, 2016)\, The Irish Edge: How Enterprises Compete on Authenticity and Place (Orpen Press\, 2013) and Capitalising on Culture\, Competing on Difference (Blackhall Publishing\, 2008)\, and co-editor of a book of essays from the 2009 MacGill Summer School on Ireland's economic crisis. He is the author of Meon Gaelach\, Aigne Nu la och (Coisc im\, 2011). He has an electrical engineering degree from University College Cork (UCC) and a Ph. D. in international finance from the Stern School of Business\, New York University (NYU).
X-ALT-DESC;FMTTYPE=text/html:<strong>Join Letterkenny Chamber and L&iacute\;onra Leitir Ceanainn for this collaborative&nbsp\;breakfast seminar with Dr Fionnbarra &Oacute\; Brolch&aacute\;in / Finbarr Bradley.&nbsp\;</strong><br />\n<br />\n<strong>Please note:&nbsp\;&nbsp\;</strong>This<u><strong> seminar will be primarily in English</strong></u> but there will also be an opportunity for comhr&aacute\; agus comhluadar for anyone who wants to.<br />\n<br />\n<strong>Join us to explore how incorporating Irish into your business can give your clients a deeper sense of who you are and what your values are</strong>. Supported by recent research Fionnbarra will discuss the<strong> many ways in which Irish is an asset to businesses.</strong><br />\n<br />\nAll welcome to attend\, business owners\, staff and stakeholders. If you have incorporated Irish into your business already\, or are interested in doing so\, <strong>yourself and your team are more than welcome to attend what will be both an inspiring and informative event!&nbsp\;</strong><br />\n<br />\nYou&#39\;ll have an opportunity to network with fellow businesses and speak to&nbsp\;<strong>L&iacute\;onra Leitir Ceanainn about their supports and initiatives.&nbsp\;</strong><br />\n<br />\n<strong>Is m&oacute\; do ghn&oacute\; leis an Ghaeilge &ndash\; business means more with Irish.&nbsp\;</strong><br />\n<br />\nThis event is a collaboration between L&iacute\;onra Leitir Ceanainn and Letterkenny Chamber.&nbsp\;<br />\n<br />\n<strong>Finbarr Bradley is a fascinating and engaging speaker who teaches at the Smurfit Business School\, University College Dublin (UCD).</strong> He is a former professor of finance at Dublin City University (DCU)\, where he also set up the Irish-medium innovation centre\, Fiontar. Finbarr has a particular interest in identity and authenticity in business and how the Irish language can contribute to that in winning ways. He is a former chairman of Zamano\, a high-tech start-up founded by Fiontar students\, now publicly listed in Dublin and London. He was an economics professor at Maynooth University and a visiting professor at the University of Michigan\, Fordham University and Aalto University.<br />\n<br />\nFinbarr is co-author of the books&nbsp\;<em>Digging Deeper: How Purpose-Driven Enterprises Create Real Value</em>&nbsp\;(Greenleaf Publishing\, 2016)\,&nbsp\;<em>The Irish Edge: How Enterprises Compete on Authenticity and Place</em>&nbsp\;(Orpen Press\, 2013) and&nbsp\;<em>Capitalising on Culture\, Competing on Difference</em>&nbsp\;(Blackhall Publishing\, 2008)\, and co-editor of a book of essays from the 2009 MacGill Summer School on Ireland&rsquo\;s economic crisis. He is the author of&nbsp\;<em>Meon Gaelach\, Aigne Nu&aacute\;la&iacute\;och</em>&nbsp\;(Coisc&eacute\;im\, 2011). He has an electrical engineering degree from University College Cork (UCC) and a Ph. D. in international finance from the Stern School of Business\, New York University (NYU).&nbsp\;<br />\n&nbsp\;<br />\n<br />\n&nbsp\;
LOCATION:Kernans Bistro and Coffee House\, Letterkenny Retail Park (event will take place upstairs)
UID:e.3653.52
SEQUENCE:3
DTSTAMP:20260419T155056Z
URL:https://business.letterkennychamber.com/events/details/identity-authenticity-in-business-breakfast-seminar-delivered-by-dr-finbarr-bradley-with-l&#237;onra-leitir-ceanainn-and-letterkenny-chamber-52
END:VEVENT

END:VCALENDAR
