BEGIN:VCALENDAR
VERSION:2.0
PRODID:-//ChamberMaster//Event Calendar 2.0//EN
METHOD:PUBLISH
X-PUBLISHED-TTL:P3D
REFRESH-INTERVAL:P3D
CALSCALE:GREGORIAN
BEGIN:VEVENT
DTSTART:20241204T100000Z
DTEND:20241204T120000Z
X-MICROSOFT-CDO-ALLDAYEVENT:FALSE
SUMMARY:HR Masterclass for Business Owners/Managers - BrightHR
DESCRIPTION:Complementary HR Masterclass for Business Owners/Managers - with Bright HR \n\n10am - 12pm Weds 4th December 2024\n\n Radisson Blu Hotel\, Letterkenny\n\n\n\nThe informative session will include expert knowledge on employer responsibilities\, legislative updates and essential topics including\n\n	Knowing the right policies for your business\n	Preparing for WRC Inspections\n	Current and upcoming developments in employment law\n	How to keep your business safe and compliant\n\n\n\nAttendees will additionally be offered a one-to-one Business Review of their existing documentation\, helping to identify vulnerabilities and strengthen their business for the future.\n\n\n\nNumbers limited\, registration essential. \n\n\n\nOpen to Chamber Members and Non-Members. \n\n\n\nPlease email marie@letterkennychamber.com with any further questions.
X-ALT-DESC;FMTTYPE=text/html:<br />\nComplementary HR Masterclass for Business Owners/Managers - with <a href="https://www.brighthr.com/ie/">Bright HR&nbsp\;</a><br />\n<strong>10am - 12pm Weds 4<sup>th</sup> December 2024</strong><br />\n&nbsp\;<strong>Radisson Blu Hotel\, Letterkenny</strong><br />\n<br />\nThe informative session will include expert knowledge on employer responsibilities\, legislative updates and essential topics including\n<ul>\n	<li>Knowing the right policies for your business</li>\n	<li>Preparing for WRC Inspections</li>\n	<li>Current and upcoming developments in employment law</li>\n	<li>How to keep your business safe and compliant</li>\n</ul>\n<br />\nAttendees will additionally be offered a one-to-one Business Review of their existing documentation\, helping to identify vulnerabilities and strengthen their business for the future.<br />\n<br />\nNumbers limited\, registration essential.&nbsp\;<br />\n<br />\nOpen to Chamber Members and Non-Members.&nbsp\;<br />\n<br />\n<strong>Please email marie@letterkennychamber.com with any further questions.&nbsp\;</strong>
LOCATION:Radisson Blu Hotel\, Letterkenny
UID:e.3653.53
SEQUENCE:3
DTSTAMP:20260419T142517Z
URL:https://business.letterkennychamber.com/events/details/hr-masterclass-for-business-owners-managers-brighthr-53
END:VEVENT

END:VCALENDAR
