BEGIN:VCALENDAR
VERSION:2.0
PRODID:-//ChamberMaster//Event Calendar 2.0//EN
METHOD:PUBLISH
X-PUBLISHED-TTL:P3D
REFRESH-INTERVAL:P3D
CALSCALE:GREGORIAN
BEGIN:VEVENT
DTSTART:20251023T073000Z
DTEND:20251023T090000Z
X-MICROSOFT-CDO-ALLDAYEVENT:FALSE
SUMMARY:Give It a Go - As Gaeilge
DESCRIPTION:Did you know that using Irish in your business (spoken & print) can add value to your business and brand? Would you like customers to know that you are a quality and trusted business? And connect with your culture and language? Using Irish encompasses all of that and you don't need to be fluent to 'Give it a Go' As Gaeilge! \n\nAn bhfuil a fhios agat go dtig leis an Ghaeilge cur go m r le do ghn ? Bain  s id as an Ghaeilge le cur ina lu  ar dhaoine gur gn  iontaofa ar ardchaighde n sibh\, fr amhaithe sa chult r agus i dteanga na t re. N  g  duit a bheith l ofa chun triall a bhaint as!\n\n\n\n We're very lucky to hear from Br d N  Chongh ile on how promoting Irish (no matter how little) has had a cultural and economic benefit to Galway and how Letterkenny businesses can implement some simple changes too. \n\nT  an t- dh dearg orainn go mbeidh deis againn go mbeidh Br d N  Chongh ile   'Gaillimh le Gaeilge' linn chun labhairt faoin tionchar ar imr odh ar Chathair na Gaillimhe le cur chun na Gaeilge. Agus beidh leideanna aici do ghn lachta  Leitir Ceanainn fosta.\n\n\n\n Learn how every business can 'Give it a Go - As Gaeilge' - No matter what level of Irish. We'll hear from Polish Business Owner Joanna Ciezka\, Founder of the Irish Sock Society on how she is learning Irish and using phrases and focal in her business. \n\nFoghlaim f  caide mar is f idir le ruda  beaga tionchar suntasach a imirt. Beidh Joanna Ciezka\, bean  g  n Pholainn\, bunaitheoir an chomhlachta Irish Sock Society ag labhairt linn faoina aistear foghlama Gaeilge agus mar at  an teanga ag cur le gn  agus branda s'aici.\n\n \n\n\n\n There are financial supports available for incorporating Irish into your business. Hear exactly what those are on the day. \n\nT  maoini  agus taca ocht ar f il chun cuidi  leat n os m  Gaeilge a  s id i do ghn . Goitse go gcloisfidh t  f thu.\n\n\n\nThis is a morning time event with breakfast included. \n\nT s maith don l  a bheas ann agus beidh bricfeasta   chur ar f il.\n\n \n\nThis is a joint venture between L onra Leitir Ceanainn and Letterkenny Chamber of Commerce\n\nIs comhthionscadal   seo idir L onra Leitir Ceanainn agus Cumann Tr cht la Leitir Ceanainn
X-ALT-DESC;FMTTYPE=text/html:<br />\nDid you know that using Irish in your business (spoken &amp\; print) can add value to your business and brand? Would you like customers to know that you are a quality and trusted business? And connect with your culture and language? Using Irish encompasses all of that and you don&#39\;t need to be fluent to &#39\;Give it a Go&#39\; As Gaeilge!&nbsp\;<br />\n<strong><em>An bhfuil a fhios agat go dtig leis an Ghaeilge cur go m&oacute\;r le do ghn&oacute\;? Bain &uacute\;s&aacute\;id as an Ghaeilge le cur ina lu&iacute\; ar dhaoine gur gn&oacute\; iontaofa ar ardchaighde&aacute\;n sibh\, fr&eacute\;amhaithe sa chult&uacute\;r agus i dteanga na t&iacute\;re. N&iacute\; g&aacute\; duit a bheith l&iacute\;ofa chun triall a bhaint as!</em></strong><br />\n<br />\n&#127978\;We&#39\;re very lucky to hear from Br&iacute\;d N&iacute\; Chongh&oacute\;ile on how promoting Irish (no matter how little) has had a cultural and economic benefit to Galway and how Letterkenny businesses can implement some simple changes too.&nbsp\;<br />\n<strong><em>T&aacute\; an t-&aacute\;dh dearg orainn go mbeidh deis againn go mbeidh Br&iacute\;d N&iacute\; Chongh&oacute\;ile &oacute\; &lsquo\;Gaillimh le Gaeilge&rsquo\; linn chun labhairt faoin tionchar ar imr&iacute\;odh ar Chathair na Gaillimhe le cur chun na Gaeilge. Agus beidh leideanna aici do ghn&oacute\;lachta&iacute\; Leitir Ceanainn fosta.</em></strong><br />\n<br />\n&#129510\;Learn how every business can &#39\;Give it a Go - As Gaeilge&#39\; - No matter what level of Irish. We&#39\;ll hear from Polish Business Owner Joanna Ciezka\, Founder of the Irish Sock Society on how she is learning Irish and using phrases and focal in her business.&nbsp\;<br />\n<strong>Foghlaim f&aacute\; caide mar is f&eacute\;idir le ruda&iacute\; beaga tionchar suntasach a imirt. Beidh Joanna Ciezka\, bean &oacute\;g &oacute\;n Pholainn\, bunaitheoir an chomhlachta Irish Sock Society ag labhairt linn faoina aistear foghlama Gaeilge agus mar at&aacute\; an teanga ag cur le gn&oacute\; agus branda s&rsquo\;aici.</strong><br />\n&nbsp\;<br />\n<br />\n&#128184\;There are financial supports available for incorporating Irish into your business. Hear exactly what those are on the day.&nbsp\;<br />\n<strong><em>T&aacute\; maoini&uacute\; agus taca&iacute\;ocht ar f&aacute\;il chun cuidi&uacute\; leat n&iacute\;os m&oacute\; Gaeilge a &uacute\;s&aacute\;id i do ghn&oacute\;. Goitse go gcloisfidh t&uacute\; f&uacute\;thu.</em></strong><br />\n<br />\nThis is a morning time event with breakfast included.&nbsp\;<br />\n<strong><em>T&uacute\;s maith don l&aacute\; a bheas ann agus beidh bricfeasta &aacute\; chur ar f&aacute\;il.</em></strong><br />\n&nbsp\;<br />\nThis is a joint venture between L&iacute\;onra Leitir Ceanainn and Letterkenny Chamber of Commerce<br />\n<strong><em>Is comhthionscadal &eacute\; seo idir L&iacute\;onra Leitir Ceanainn agus Cumann Tr&aacute\;cht&aacute\;la Leitir Ceanainn</em></strong><br />\n&nbsp\;
LOCATION:Kernan's Bistro\, Unite 3B\, Letterkenny Retail Park\, Paddy Harte Rd\, Letterkenny\, F92 YK27
UID:e.3653.68
SEQUENCE:3
DTSTAMP:20260419T180912Z
URL:https://business.letterkennychamber.com/events/details/give-it-a-go-as-gaeilge-68
END:VEVENT

END:VCALENDAR
