BEGIN:VCALENDAR
VERSION:2.0
PRODID:-//ChamberMaster//Event Calendar 2.0//EN
METHOD:PUBLISH
X-PUBLISHED-TTL:P3D
REFRESH-INTERVAL:P3D
CALSCALE:GREGORIAN
BEGIN:VEVENT
DTSTART:20240221T090000Z
DTEND:20240221T130000Z
X-MICROSOFT-CDO-ALLDAYEVENT:FALSE
SUMMARY:eTenders Workshop
DESCRIPTION:A dedicated workshop with Procurement Expert - Lorraine Kessack\, ATU - to provide assistance and clarity with regards the eTenders platform and process.
X-ALT-DESC;FMTTYPE=text/html:<span class="OYPEnA text-decoration-none text-strikethrough-none" style="color: rgb(23\, 22\, 22)\;">A </span><span class="OYPEnA text-decoration-none text-strikethrough-none" style="color: rgb(23\, 22\, 22)\; font-weight: 700\;">dedicated workshop</span><span class="OYPEnA text-decoration-none text-strikethrough-none" style="color: rgb(23\, 22\, 22)\;"> with Procurement Expert - </span><span class="OYPEnA text-decoration-none text-strikethrough-none" style="color: rgb(23\, 22\, 22)\; font-weight: 700\;">Lorraine Kessack\, ATU </span><span class="OYPEnA text-decoration-none text-strikethrough-none" style="color: rgb(23\, 22\, 22)\;">- to provide assistance and clarity with regards the </span><span class="OYPEnA text-decoration-none text-strikethrough-none" style="color: rgb(23\, 22\, 22)\; font-weight: 700\;">eTenders platform and process</span><span class="OYPEnA text-decoration-none text-strikethrough-none" style="color: rgb(23\, 22\, 22)\;">.</span>
LOCATION:Letterkenny Chamber Office - Boardroom 2nd Floor\, Grand Central Building\, Canal Road\, 2nd Floor (Directly across from Marks and Spencer)
UID:e.3653.37
SEQUENCE:3
DTSTAMP:20260420T061306Z
URL:https://business.letterkennychamber.com/events/details/etenders-workshop-37
END:VEVENT

END:VCALENDAR
