BEGIN:VCALENDAR
VERSION:2.0
PRODID:-//ChamberMaster//Event Calendar 2.0//EN
METHOD:PUBLISH
X-PUBLISHED-TTL:P3D
REFRESH-INTERVAL:P3D
CALSCALE:GREGORIAN
BEGIN:VEVENT
DTSTART:20250520T080000Z
DTEND:20250520T100000Z
X-MICROSOFT-CDO-ALLDAYEVENT:FALSE
SUMMARY:E-Tenders Workshop 2025
DESCRIPTION:Learn how to navigate eTenders with Lorraine Kessack\, including\n\n	  how to correctly set up your profile\,\n	 download tender documents\,\n	 upload tender responses. \n\nWe'll look at typical tender documentation to better understand the requirements\, identify some common pitfalls\, and share tips for how to improve your tender submissions.
X-ALT-DESC;FMTTYPE=text/html:Learn how to navigate eTenders with Lorraine Kessack\, including\n<ul>\n	<li>&#8203\; how to correctly set up your profile\,</li>\n	<li>&nbsp\;download tender documents\,</li>\n	<li>&nbsp\;upload tender responses.&nbsp\;</li>\n</ul>\nWe&#39\;ll look at typical tender documentation to better understand the requirements\, identify some common pitfalls\, and share tips for how to improve your tender submissions. &nbsp\;
LOCATION:Meeting Room 4\, Colab\, ATU\, Letterkenny.
UID:e.3653.61
SEQUENCE:3
DTSTAMP:20260420T002641Z
URL:https://business.letterkennychamber.com/events/details/e-tenders-workshop-2025-61
END:VEVENT

END:VCALENDAR
