BEGIN:VCALENDAR
VERSION:2.0
PRODID:-//ChamberMaster//Event Calendar 2.0//EN
METHOD:PUBLISH
X-PUBLISHED-TTL:P3D
REFRESH-INTERVAL:P3D
CALSCALE:GREGORIAN
BEGIN:VEVENT
DTSTART:20251009T073000Z
DTEND:20251009T090000Z
X-MICROSOFT-CDO-ALLDAYEVENT:FALSE
SUMMARY:Don’t Get Caught: Cybersecurity & Fraud Prevention Session
DESCRIPTION:Cybersecurity & Fraud Awareness   Protect Your Business\n\n\n\nOn Thursday 9th October we're hosting  a Cyber Security & Fraud Awareness session with AIB featuring expert speakers Audrey Doherty and John Haren\, (Cyber Awareness Leads at AIB) and with a special guest from the An Garda S och na Cyber Security & Fraud Awareness Team.\n\n\n\nThis essential session will cover:\n\n  The main forms of social engineering scams   Learn how cybercriminals use smishing (SMS scams)\, phishing (email scams)\, and vishing (phone scams) to trick you into revealing sensitive information or clicking on malicious links. Find out what red flags to look out for.\n\n  How invoice redirection scams target businesses   Discover how fraudsters impersonate suppliers or colleagues to divert payments into their own accounts and learn the checks and processes that can stop them in their tracks.\n\n   The latest emerging cyber threats\, including AI-powered attacks   From deepfake audio and video scams to AI-generated phishing emails\, find out how criminals are using new technology to make their attacks harder to spot.\n\n  Practical measures to reduce your cyber risk   Simple\, actionable steps you can implement straight away to protect your business\, your team\, and your customers from fraud.\n\n \n\nWho is this for?\n\nThis session is relevant for anyone who works with any digital tools (e-mails and phone)\, financial transactions\, or customer data\, including:\n\n	Business owners   Protect your reputation\, finances\, and operations from costly attacks.\n	Employees   Especially those handling invoices\, emails\, accounts\, or sensitive data.\n	Managers & team leaders   Build security awareness into your team culture.\n	Anyone using online banking\, email\, or digital services   Learn how to spot and avoid scams before it's too late.\n\n \n\nAbout the Speakers\n\n\n	Audrey Doherty has extensive experience managing fraud cases and supporting impacted customers.\n	John Haren has over 15 years' experience in cybersecurity\, is an associate lecturer in Information Security at the Open University\, and is a PhD candidate at DCU researching continuing professional development for cybersecurity professionals in Ireland.\n\n\nStay informed. Stay secure. Protect your business.
X-ALT-DESC;FMTTYPE=text/html:<br />\n<br />\n<strong>Cybersecurity &amp\; Fraud Awareness &ndash\; Protect Your Business</strong><br />\n<br />\nOn Thursday 9<sup>th</sup> October we&rsquo\;re hosting &nbsp\;a <strong>Cyber Security &amp\; Fraud Awareness</strong> session with AIB featuring expert speakers <strong>Audrey Doherty</strong> and <strong>John Haren</strong>\, (Cyber Awareness Leads at AIB) and with a special guest from the <strong>An Garda S&iacute\;och&aacute\;na Cyber Security &amp\; Fraud Awareness Team</strong>.<br />\n<br />\n<strong>This essential session will cover:</strong><br />\n<span style="font-family:segoe ui emoji\,sans-serif\;">&#128269\;</span> <strong>The main forms of social engineering scams</strong> &ndash\; Learn how cybercriminals use smishing (SMS scams)\, phishing (email scams)\, and vishing (phone scams) to trick you into revealing sensitive information or clicking on malicious links. Find out what red flags to look out for.<br />\n<span style="font-family:segoe ui emoji\,sans-serif\;">&#128188\;</span> <strong>How invoice redirection scams target businesses</strong> &ndash\; Discover how fraudsters impersonate suppliers or colleagues to divert payments into their own accounts and learn the checks and processes that can stop them in their tracks.<br />\n<span style="font-family:segoe ui emoji\,sans-serif\;">&#9888\;&#65039\;</span> <strong>The latest emerging cyber threats\, including AI-powered attacks</strong> &ndash\; From deepfake audio and video scams to AI-generated phishing emails\, find out how criminals are using new technology to make their attacks harder to spot.<br />\n<span style="font-family:segoe ui symbol\,sans-serif\;">&#128737\;</span> <strong>Practical measures to reduce your cyber risk</strong> &ndash\; Simple\, actionable steps you can implement straight away to protect your business\, your team\, and your customers from fraud.<br />\n&nbsp\;<br />\n<strong>Who is this for?</strong><br />\nThis session is relevant for <strong>anyone who works with any digital tools (e-mails and phone)\, financial transactions\, or customer data</strong>\, including:\n<ul>\n	<li><strong>Business owners</strong> &ndash\; Protect your reputation\, finances\, and operations from costly attacks.</li>\n	<li><strong>Employees</strong> &ndash\; Especially those handling invoices\, emails\, accounts\, or sensitive data.</li>\n	<li><strong>Managers &amp\; team leaders</strong> &ndash\; Build security awareness into your team culture.</li>\n	<li><strong>Anyone using online banking\, email\, or digital services</strong> &ndash\; Learn how to spot and avoid scams before it&rsquo\;s too late.</li>\n</ul>\n&nbsp\;<br />\n<strong>About the Speakers</strong>\n\n<ul>\n	<li><strong>Audrey Doherty</strong> has extensive experience managing fraud cases and supporting impacted customers.</li>\n	<li><strong>John Haren</strong> has over 15 years&rsquo\; experience in cybersecurity\, is an associate lecturer in Information Security at the Open University\, and is a PhD candidate at DCU researching continuing professional development for cybersecurity professionals in Ireland.</li>\n</ul>\n\n<div style="border:none\;border-bottom:solid windowtext 1.0pt\;padding:0cm 0cm 1.0pt 0cm\;">Stay informed. Stay secure. Protect your business.</div>\n
LOCATION:Century Complex\, Leckview Lane Pearse Road\, Letterkenny\, Co. Donegal\, F92 DA02
UID:e.3653.67
SEQUENCE:3
DTSTAMP:20260419T181455Z
URL:https://business.letterkennychamber.com/events/details/don-t-get-caught-cybersecurity-fraud-prevention-session-67
END:VEVENT

END:VCALENDAR
