BEGIN:VCALENDAR
VERSION:2.0
PRODID:-//ChamberMaster//Event Calendar 2.0//EN
METHOD:PUBLISH
X-PUBLISHED-TTL:P3D
REFRESH-INTERVAL:P3D
CALSCALE:GREGORIAN
BEGIN:VEVENT
DTSTART:20260527T073000Z
DTEND:20260527T093000Z
X-MICROSOFT-CDO-ALLDAYEVENT:FALSE
SUMMARY:Claude Cowork Workshop
DESCRIPTION:Learn how to use Claude Cowork. This is for people who have the paid version of Claude and will have their laptop with them on the day. Spaces are limited for this final workshop. \n\nIn this session you will learn how to draft\, rewrite and organise projects faster with Claude Cowork. \n\nDr. Carla Roets will once again share her expertise of not only AI and Claude but her marketing and business experience from working with SMEs throughout the years helping them streamline their systems and processes and improve sales and services. \n\nWe are delighted to be teaming up with Tech North West Skillnet to offer members this hands on AI workshop. \n\n\n\n\n\nPlease note that you will need to have Claude Cowork installed on your laptop to attend. Bring your laptop and real life documents\, invoices\, etc. that you are working on and need help with. \n\nThis session will be limited to 10 to 12 people to allow time for each person to get one on one help with their tasks.
X-ALT-DESC;FMTTYPE=text/html:<br />\n<br />\nLearn how to use Claude Cowork. This is for people who have the paid version of Claude and will have their laptop with them on the day. Spaces are limited for this final workshop.&nbsp\;<br />\nIn this session you will learn how to draft\, rewrite and organise projects faster with Claude Cowork.&nbsp\;<br />\nDr. Carla Roets will once again share her expertise of not only AI and Claude but her marketing and business experience from working with SMEs throughout the years helping them streamline their systems and processes and improve sales and services.&nbsp\;<br />\nWe are delighted to be teaming up with Tech North West Skillnet to offer members this hands on AI workshop.&nbsp\;<br />\n<br />\n<br />\nPlease note that you will need to have Claude Cowork installed on your laptop to attend. Bring your laptop and real life documents\, invoices\, etc. that you are working on and need help with.&nbsp\;<br />\nThis session will be limited to 10 to 12 people to allow time for each person to get one on one help with their tasks.&nbsp\;
LOCATION:Colab\, ATU\, Port Rd. Letterkenny
UID:e.3653.80
SEQUENCE:3
DTSTAMP:20260420T083658Z
URL:https://business.letterkennychamber.com/events/details/claude-cowork-workshop-80
END:VEVENT

END:VCALENDAR
