BEGIN:VCALENDAR
VERSION:2.0
PRODID:-//ChamberMaster//Event Calendar 2.0//EN
METHOD:PUBLISH
X-PUBLISHED-TTL:P3D
REFRESH-INTERVAL:P3D
CALSCALE:GREGORIAN
BEGIN:VEVENT
DTSTART:20251022T170000Z
DTEND:20251022T183000Z
X-MICROSOFT-CDO-ALLDAYEVENT:FALSE
SUMMARY:Business Watch Seminar
DESCRIPTION:In partnership with An Garda Siochana this event will provide practical advice and tips for businesses as we head into the busy festive season. \n\n\n\n Crime Prevention Officer\, Sgt. Fergus McGroary will offer practical advice on safety\, security and crime prevention. \n\n\n\nThis is a valuable evening for all local business owners and managers. \n\nAll welcome.
X-ALT-DESC;FMTTYPE=text/html:<p>In partnership with An Garda Siochana this event will provide practical advice and tips for businesses as we head into the busy festive season.&nbsp\;<br />\n<br />\n&nbsp\;Crime Prevention Officer\, Sgt. Fergus McGroary will offer practical advice on safety\, security and crime prevention<strong>.&nbsp\;</strong><br />\n<br />\nThis is a valuable evening for all local business owners and managers.&nbsp\;</p>\n\n<p>All welcome.&nbsp\;</p>\n
LOCATION:Dillons Hotel
UID:e.3653.69
SEQUENCE:3
DTSTAMP:20260419T180958Z
URL:https://business.letterkennychamber.com/events/details/business-watch-seminar-69
END:VEVENT

END:VCALENDAR
