BEGIN:VCALENDAR
VERSION:2.0
PRODID:-//ChamberMaster//Event Calendar 2.0//EN
METHOD:PUBLISH
X-PUBLISHED-TTL:P3D
REFRESH-INTERVAL:P3D
CALSCALE:GREGORIAN
BEGIN:VEVENT
DTSTART:20230913T073000Z
DTEND:20230913T090000Z
X-MICROSOFT-CDO-ALLDAYEVENT:FALSE
SUMMARY:Bricfeasta Gnó - Is mó do ghnó leis an Ghaeilge Business Breakfast to explore what Irish could add to your business
DESCRIPTION:Bricfeasta Gn  - Is m  do ghn  leis an Ghaeilge\n\nBusiness Breakfast to explore what Irish could add to your business\n\n\n\nHimalayan Caf  Wednesday 13 Sept 8:30 - 10:00\n\n\n\nThis event is free for all in the business community\, and focused on the Letterkenny area. \n\n\n\nA great opportunity to network\, to get a lovely bite to eat in the Himalayan Cafe on Church Lane\, and explore what Irish could add to your business. \n\n\n\nThis event is kindly part-sponsored by CBM Signs. \n\n\n\nPlease let us know in advance of any specific dietary requirements (marie@letterkennychamber.com)
X-ALT-DESC;FMTTYPE=text/html:<span style="font-family:arial\,sans-serif\;">Bricfeasta Gn&oacute\; - Is m&oacute\; do ghn&oacute\; leis an Ghaeilge</span><br />\n<span style="font-family:arial\,sans-serif\;">Business Breakfast to explore what Irish could add to your business</span><br />\n<br />\n<span style="font-family:arial\,sans-serif\;">Himalayan Caf&eacute\; Wednesday 13 Sept 8:30 - 10:00</span><br />\n<br />\nThis event is free for all in the business community\, and focused on the Letterkenny area.&nbsp\;<br />\n<br />\nA great opportunity to network\, to get a lovely bite to eat in the Himalayan Cafe on Church Lane\, and explore what Irish could add to your business.&nbsp\;<br />\n<br />\nThis event is kindly part-sponsored by CBM Signs.&nbsp\;<br />\n<br />\nPlease let us know in advance of any specific dietary requirements (marie@letterkennychamber.com)
LOCATION:Himalayan Caf \, Church Lane\, Letterkenny
UID:e.3653.23
SEQUENCE:3
DTSTAMP:20260420T154640Z
URL:https://business.letterkennychamber.com/events/details/bricfeasta-gn&#243;-is-m&#243;-do-ghn&#243;-leis-an-ghaeilge-business-breakfast-to-explore-what-irish-could-add-to-your-business-23
END:VEVENT

END:VCALENDAR
