BEGIN:VCALENDAR
VERSION:2.0
PRODID:-//ChamberMaster//Event Calendar 2.0//EN
METHOD:PUBLISH
X-PUBLISHED-TTL:P3D
REFRESH-INTERVAL:P3D
CALSCALE:GREGORIAN
BEGIN:VEVENT
DTSTART:20230425T080000Z
DTEND:20230425T130000Z
X-MICROSOFT-CDO-ALLDAYEVENT:FALSE
SUMMARY:Back to School For A Day - Ar Ais Ar Scoil Coláiste Ailigh
DESCRIPTION:A chara\,\n\n \n\nBa mhaith le Col iste Ailigh cuireadh a thabhairt daoibh mar fhost ir  agus p irtithe leasmhara t bhachtacha in r bpobal le teacht ar ais ar scoil ar feadh lae.\n\n \n\nT  s il againn go mbeidh s  seo ina eisp ireas  s ideach agus taitneamhach daoibh agus go dtabharfaidh s  seo deis daoibh n d r an oideachais agus na foghlama d r n-aos  g at  linn faoi l thair\, ach a bheidh ina bhfostaithe daoibh agus le d chas ceannair  agus fiontraithe na todhcha . \n\n \n\nChomh maith le sin\, t  s il againn go gcuirfidh s  seo t s le nascanna agus comhchaidrimh th bhachtacha libh chun  r n-aos  g a ullmh  do shaol na hoibre. \n\n \n\n \n\nAnois\, pac il bhur m la  (n  gl as r omhaire dod rogha f in)\, b g  linn D  M irt 25 Aibre n agus tar ar ais ar scoil don l ! Tabharfaidh muid l n daoibh  n r gceaint n ach\, cos il le dalta  go l ir\, molann muid sneaiceanna sl inti la agus buid al uisce a th g il libh.\n\n \n\n \n\nBeidh an l  tr  mhe n an Bh arla ach beidh deis agaibh triail a bhaint as oiread is m  n  is l  de do chuid Gaeilge gur mhian leat a  s id.\n\n \n\nScr obh ar ais chugainn roimh an Aoine 21 Aibre n\, le bhur dtoill. \n\n \n\nIs muidne le meas\, \n\n \n\nRosa Nic Lochlainn\, \n\nPr omhoide T naisteach \n\n \n\nCol iste Ailigh would like to invite you as important employers and stakeholders in our community to come back to school for a day.\n\n \n\n \n\nWe hope this will be a useful and enjoyable experience for you and give you an opportunity to see first hand the nature of education and learning for our young people who are with us presently\, but who will be your employees and hopefully leaders and entrepreneurs of the future.\n\n \n\nWe also hope this will be the beginning of building important links and relationships with you in order to prepare our young people for the world of work.\n\n \n\nSo pack your school bag (or your computer device of choice)\, join us on Tuesday 25th April and come back to school for a day! We will provide lunch from our canteen but as with all students we would encourage you to bring some healthy snacks and a water bottle.\n\n \n\nThe day will be conducted through the medium of English but you will get a chance to try out as much or as little of your Irish as you like. \n\n \n\nPlease RSVP by Friday April 21st\n\n \n\n \n\n \n\n \n\nSe n Mac Suibhne\, \n\nPr omhoide
X-ALT-DESC;FMTTYPE=text/html:<div>&nbsp\;</div>\n\n<div>A chara\,</div>\n\n<div>&nbsp\;</div>\n\n<div>Ba mhaith le Col&aacute\;iste Ailigh cuireadh a thabhairt daoibh mar fhost&oacute\;ir&iacute\; agus p&aacute\;irtithe leasmhara t&aacute\;bhachtacha in&aacute\;r bpobal le teacht ar ais ar scoil ar feadh lae.</div>\n\n<div>&nbsp\;</div>\n\n<div>T&aacute\; s&uacute\;il againn go mbeidh s&eacute\; seo ina eisp&eacute\;ireas &uacute\;s&aacute\;ideach agus taitneamhach daoibh agus go dtabharfaidh s&eacute\; seo deis daoibh n&aacute\;d&uacute\;r an oideachais agus na foghlama d&aacute\;r n-aos &oacute\;g at&aacute\; linn faoi l&aacute\;thair\, ach a bheidh ina bhfostaithe daoibh agus le d&oacute\;chas ceannair&iacute\; agus fiontraithe na todhcha&iacute\;.&nbsp\;</div>\n\n<div>&nbsp\;</div>\n\n<div>Chomh maith le sin\, t&aacute\; s&uacute\;il againn go gcuirfidh s&eacute\; seo t&uacute\;s le nascanna agus comhchaidrimh th&aacute\;bhachtacha libh chun &aacute\;r n-aos &oacute\;g a ullmh&uacute\; do shaol na hoibre.&nbsp\;</div>\n\n<div>&nbsp\;</div>\n\n<div>&nbsp\;</div>\n\n<div>Anois\, pac&aacute\;il bhur m&aacute\;la&iacute\; (n&oacute\; gl&eacute\;as r&iacute\;omhaire dod rogha f&eacute\;in)\, b&iacute\;g&iacute\; linn D&eacute\; M&aacute\;irt 25 Aibre&aacute\;n agus tar ar ais ar scoil don l&aacute\;! Tabharfaidh muid l&oacute\;n daoibh &oacute\;n&aacute\;r gceaint&iacute\;n ach\, cos&uacute\;il le dalta&iacute\; go l&eacute\;ir\, molann muid sneaiceanna sl&aacute\;inti&uacute\;la agus buid&eacute\;al uisce a th&oacute\;g&aacute\;il libh.</div>\n\n<div>&nbsp\;</div>\n\n<div>&nbsp\;</div>\n\n<div>Beidh an l&aacute\; tr&iacute\; mhe&aacute\;n an Bh&eacute\;arla ach beidh deis agaibh triail a bhaint as oiread is m&oacute\; n&oacute\; is l&uacute\; de do chuid Gaeilge gur mhian leat a &uacute\;s&aacute\;id.</div>\n\n<div>&nbsp\;</div>\n\n<div>Scr&iacute\;obh ar ais chugainn roimh an Aoine 21 Aibre&aacute\;n\, le bhur dtoill.&nbsp\;</div>\n\n<div>&nbsp\;</div>\n\n<div>Is muidne le meas\,&nbsp\;</div>\n\n<div>&nbsp\;</div>\n\n<div>Rosa Nic Lochlainn\,&nbsp\;</div>\n\n<div>Pr&iacute\;omhoide T&aacute\;naisteach<span style="white-space:pre"> </span><br />\n&nbsp\;</div>\n\n<div>Col&aacute\;iste Ailigh would like to invite you as important employers and stakeholders in our community to come back to school for a day.</div>\n\n<div>&nbsp\;</div>\n\n<div>&nbsp\;</div>\n\n<div>We hope this will be a useful and enjoyable experience for you and give you an opportunity to see first hand the nature of education and learning for our young people who are with us presently\, but who will be your employees and hopefully leaders and entrepreneurs of the future.</div>\n\n<div>&nbsp\;</div>\n\n<div>We also hope this will be the beginning of building important links and relationships with you in order to prepare our young people for the world of work.</div>\n\n<div>&nbsp\;</div>\n\n<div>So pack your school bag (or your computer device of choice)\, join us on Tuesday 25th April and come back to school for a day! We will provide lunch from our canteen but as with all students we would encourage you to bring some healthy snacks and a water bottle.</div>\n\n<div>&nbsp\;</div>\n\n<div>The day will be conducted through the medium of English but you will get a chance to try out as much or as little of your Irish as you like.&nbsp\;</div>\n\n<div>&nbsp\;</div>\n\n<div>Please RSVP by Friday April 21st</div>\n\n<div>&nbsp\;</div>\n\n<div>&nbsp\;</div>\n\n<div>&nbsp\;</div>\n\n<div>&nbsp\;</div>\n\n<div>Se&aacute\;n Mac Suibhne\,&nbsp\;</div>\n\n<div>Pr&iacute\;omhoide&nbsp\;</div>\n\n<div>&nbsp\;</div>\n
LOCATION:Knocknamona\, Letterkenny\, Co. Donegal
UID:e.3653.16
SEQUENCE:3
DTSTAMP:20260421T003508Z
URL:https://business.letterkennychamber.com/events/details/back-to-school-for-a-day-ar-ais-ar-scoil-col&#225;iste-ailigh-16
END:VEVENT

END:VCALENDAR
