BEGIN:VCALENDAR
VERSION:2.0
PRODID:-//ChamberMaster//Event Calendar 2.0//EN
METHOD:PUBLISH
X-PUBLISHED-TTL:P3D
REFRESH-INTERVAL:P3D
CALSCALE:GREGORIAN
BEGIN:VEVENT
DTSTART:20241024T073000Z
DTEND:20241024T090000Z
X-MICROSOFT-CDO-ALLDAYEVENT:FALSE
SUMMARY:AI Awareness Seminar - FinTrU and Letterkenny Chamber
DESCRIPTION:AI Awareness: Exploring the Impact on Your Business \n\n\n\nLetterkenny Chamber Member\, FinTrU - extends a warm welcome to the local business community to join them at their new Letterkenny office\, for an insight into AI seminar with FinTrU Head of AI\, Kathryn Harkin   as well as this valuable session\, attendees will have an opportunity to network over a light breakfast and enjoy a tour of the new Letterkenny office.\n\n\n\nWho is this event for? Small to medium sized business owners/managers or staff within your organisation interested in using AI or currently responsible for AI integration.
X-ALT-DESC;FMTTYPE=text/html:<strong><span style="font-family:calibri\,sans-serif\;"><span style="font-size:11.0pt\;">AI Awareness: Exploring the Impact on Your Business&nbsp\;<br />\n<br />\nLetterkenny Chamber Member\, FinTrU</span></span></strong><span style="font-family:calibri\,sans-serif\;"><span style="font-size:11.0pt\;"> - extends a warm welcome to the local business community to join them at their new Letterkenny office\, for an <strong>insight into AI</strong> seminar with FinTrU Head of AI\, Kathryn Harkin &ndash\; as well as this valuable session\, attendees will have an opportunity to network over a light breakfast and enjoy a tour of the new Letterkenny office.<br />\n<br />\n<strong>Who is this event for?</strong>&nbsp\;Small to medium sized business owners/managers or staff within your organisation interested in using AI or currently responsible for AI integration.&nbsp\;</span></span>
LOCATION:FinTrU Letterkenny Office - Windyhall\, Letterkenny\, Co. Donegal - F92 W622
UID:e.3653.50
SEQUENCE:3
DTSTAMP:20260419T175710Z
URL:https://business.letterkennychamber.com/events/details/ai-awareness-seminar-fintru-and-letterkenny-chamber-50
END:VEVENT

END:VCALENDAR
